BEGIN:VCALENDAR
PRODID:NingEventWidget-v1
VERSION:2.0
METHOD:PUBLISH
BEGIN:VEVENT
UID:2508951:Event:11527
DTSTAMP:20260423T035107Z
SUMMARY:Fundraiser - A NITE AT THE RACES \"A GRAND DERBY AFFAIR\" @ KO
 KOAMOS
DESCRIPTION:The Little Neck Circle of the King's Daughters\n\nall proc
 eeds to benefit\nChildren's Hospital of the King's Daughters\nFoodbank
  of Southeastern Virgtinia\nand many other local charities\n\nLadies d
 on your floppy hats, the bigger the better, and get ready for a grand 
 derby event adorned with southern charm. Your contribution to charity 
 provides professionally taped and automated horse races playing on big
  screen tv's, plenty of betting money, betting windows, food, music, d
 ancing, and an array of prize raffles.\n\nSunday, April 26th 3:00 to 8
 :00pm\n\n$30 advance / $35 door\n\nFor more information visit https://
 vbnightlife.com/events/fundraiser-a-nite-at-the
DTSTART:20090426T040000Z
DTEND:20090427T035900Z
CATEGORIES:fundraiser
LOCATION:Kokoamos
WEBSITE:
URL:
CONTACT:
ORGANIZER:The Little Neck Circle of the King's Daughters
ATTACH;FMTTYPE="image/jpeg":http://storage.ning.com/topology/rest/1.0/
 file/get/1664070593?profile=original
ATTENDEE;ROLE=REQ-PARTICIPANT;PARTSTAT=ACCEPTED;RSVP=TRUE;CN="Nicole M
 axino":https://vbnightlife.com/profile/NicoleMaxino
END:VEVENT
END:VCALENDAR
