BEGIN:VCALENDAR
PRODID:NingEventWidget-v1
VERSION:2.0
METHOD:PUBLISH
BEGIN:VEVENT
UID:2508951:Event:294615
DTSTAMP:20260425T213409Z
SUMMARY:Click here for FRIDAY 8/29/14 VIRGINIA BEACH ENTERTAINMENT LIS
 TINGS
DESCRIPTION:Download the new FREE mobile app for Virginia Beach. Â Use
  this link:http://onelink.to/yae3t5Â or SearchÂ VBnightlifeÂ in the iT
 unes or Google Play stores today and get a complete list of events, re
 staurant recommendations, coupons and more!\nÂ \nSpecial Events:\nRock
  n Roll 1/2 Marathon\nWalter Beasley in Norfolk + Free Student tickets
  for this show!\n2 for 1 Date Night atÂ Colonial Shooting: Â Every Fri
 day from 5PM-8PM have a blast on DATE NIGHT with 2 for 1 lane rentals.
 Â DETAILS HEREÂ \n\nBeach Gallery -Â Featured Artist Will Corr showing
  recent works on canvas, board and paper thru Sept 13th.Â \n\nLIVE ENT
 ERTAINMENT Â  Â \nBahama Breeze - Smoove Steel 5pm\nBaja Sandbridge - 
 Billy Joe Trio 8pm\nBoneshakers Sports Bar and GrillÂ â€“ Â Heather Ed
 wards Band Â  9-1:00am\nCalypso - The Gold Sauce 7pm\nChix Sea Grill -
  Â  Steve Forss Â  11pm\nChops Patio - Skip Friel Solo 6 to 9pmÂ \nEag
 le's Nest - Â Official Huner Hayes After Party with Raelynn, JT Hodges
 , and Chase Bryant!Â \nFinn McCool's - Billy Joe Trio Â 9pm Â to 12am\
 nFroggies - Â Childz Play Â 8:30\nGrumpy's - Krunch 9pm\nHot Tuna - Â 
 DJ F14 10pm\nIl Giardino's- Billy Batte 7pm Â \nJerry's Restaurant and
  Lounge - Chesapeake - Â  JD Silvia Band Â 9:30 to 1:30am - Get Your 1
 /2 Price Coupon here:Â www.vbhotdeals.com\nJewish Mother - Doc Watson 
 9pm\nKeagan's - Â The Charltones 10pm\nLighthouse - 12th St Ed Kellehe
 r - Â 8-11pmÂ \nPeabody's - Shaggy's Local Lounge 7pm\nPoppa's Pub - C
 heap Whiskey Â 9pmÂ \nSimply Fresh - Town Center - Happy Hour and Hypn
 osis 5:30https://www.facebook.com/events/693980807348199/?ref_dashboar
 d_filter=upcoming\nSneeky Pete's - Live Music or DJ Â 9pm\nSouth Beach
  Grill - Â  The Heard Â 9pm\nStan's American Bistro - Mike Proffitt an
 d Dana Silvercloud 8pm\nTapped Gastropub - Live Music Â 10pmÂ \nWing K
 ing - Kempsville - Â Asphalt Jungle Â 9pmÂ \nWoody McGee's - Â  Red St
 apler Band Â  9pm\nÂ \nAmerican Music Festival:\n5th Street Main Stage
  (6:00pm doors) - $20 in advance/$25 day of show -Â 7:00pm - Hunter Ha
 yes w/ Native Run\n17th Street Park (6:30pm doors) - freeÂ 7:30pmÂ Fog
 hat Â with The Blue Lords\n24th Street Park (6:30pm doors) - freeÂ 7:3
 0pm Â Big Samâ€™s Funky Nation Â with Anthony Rosano & the ConqueroosÂ
  \n31st Street Park (6:30pm doors) - freeÂ 7:30pm Â Vertical Horizon Â
  with Jesse Chong BandÂ \n\nFor more information visit https://vbnight
 life.com/events/friday
DTSTART:20140829T040000Z
DTEND:20140830T035900Z
CATEGORIES:"virginia beach", "virginia beach nightlife", "virginia bea
 ch bands", "virginia beach entertainment"
LOCATION:Virginia Beach, VA
WEBSITE:
URL:
CONTACT:
ORGANIZER;CN="VBnightlife.com":https://vbnightlife.com/profile/admin
ATTACH;FMTTYPE="image/jpeg":http://storage.ning.com/topology/rest/1.0/
 file/get/1664247960?profile=original
ATTENDEE;ROLE=REQ-PARTICIPANT;PARTSTAT=ACCEPTED;RSVP=TRUE;CN="VBnightl
 ife.com":https://vbnightlife.com/profile/admin
END:VEVENT
END:VCALENDAR
