BEGIN:VCALENDAR
PRODID:NingEventWidget-v1
VERSION:2.0
METHOD:PUBLISH
BEGIN:VEVENT
UID:2508951:Event:316896
DTSTAMP:20260424T132524Z
SUMMARY:HALLOWEEN PARTIES   - OUR TOP PICKS FOR FUN
DESCRIPTION:FAMILY FUN: \nAdventure Park: Halloween Pirate Party Frid
 ay and Saturday http://vbnightlife.com/events/halloween-pirate-party-
 at-the-adventure-park\n\nHarvest Fest at Hunt Club Farm - (1/2 price t
 ickets) Saturday and Sunday - noon to 6 http://www.vbhotdeals.com/Hun
 t-Club-Farm/Virginia-Beach/23456/deals/Harvest-Festival--Family-4Pack-
 -Includes-Pony-Rides-Petting-Zoo-Pumpkin-Patch-Hayrides--More/97462/15
 12\n\nFamily Fun Halloween Events in Hampton Roads - List from My Acti
 ve Child http://vbnightlife.com/events/family-fun-halloween-events-in
 -hampton-roads-courtesy-of-my-activ\n\nHaunted Hunt Club Farm - Haunte
 d Hayride, Field of Screams, Village of the dead:  www.Huntclubfarm.c
 om\n \nSATURDAY\nDining with the Spirits - Saturday at The Pearl Club
  -http://vbnightlife.com/events/dining-with-the-spirits \n\nTempt Hal
 loween Party- Heaven and Hell - DJ & Drink Specials  http://vbnightli
 fe.com/events/tempt-halloween-party\n\nFroggies Costume Party with $1
 000 cash prize http://vbnightlife.com/events/halloween-party-with-100
 0-cash-prize-at-froggies\n\nFEATURED: Pump Con which is a costume bar 
 tour that goes from Chix on 7th Street to Skybar - Details: http://vb
 nightlife.com/events/pumpcon-halloween-oceanfront-crawl\n\nSomething d
 ifferent: \nZombie Resistance at the Colonial Shooting Academy: http
 ://vbnightlife.com/events/zombie-apocalypse-shootout-at-colonial-shoot
 ing-academy-1\n\nAll Others: \nBack Bay Brewing - Halloween Harvest F
 est Costume Party\n\nGranby Theater - Dead Sexy Halloween Party\n\nHil
 ton & Skybar Halloween Party\n\nSEE SATURDAY BAND SCHEDULE HERE: http:
 //vbnightlife.com/events/click-here-for-saturday-10-31-15-virginia-bea
 ch-event-entertainme \n\nHOUSE OF BLUES AND BREWS TOMORROW AT VIRGINI
 A MOCA! http://vbnightlife.com/events/7th-annual-house-of-blues-brews
 \n\n\n\n\nFor more information visit https://vbnightlife.com/events/fr
 iday-saturday-halloween-weekend-our-top-picks-for-fun
DTSTART:20151031T040000Z
DTEND:20151101T035900Z
CATEGORIES:"halloween in hampton roads", "halloween events in virginia
  beach", "halloween virginia beach"
LOCATION:Virginia Beach
WEBSITE:
URL:
CONTACT:
ORGANIZER:VBnightlife.com / vbdaylife / vbhotdeals
ATTACH;FMTTYPE="image/jpeg":http://storage.ning.com/topology/rest/1.0/
 file/get/1664287205?profile=original
ATTENDEE;ROLE=REQ-PARTICIPANT;PARTSTAT=ACCEPTED;RSVP=TRUE;CN="VBnightl
 ife.com":https://vbnightlife.com/profile/admin
END:VEVENT
END:VCALENDAR
