BEGIN:VCALENDAR
PRODID:NingEventWidget-v1
VERSION:2.0
METHOD:PUBLISH
BEGIN:VEVENT
UID:2508951:Event:5820
DTSTAMP:20260425T213652Z
SUMMARY:FRIDAY NIGHT'S BAND / EVENT LISTING
DESCRIPTION:15 Street Raw Bar - EXCESS BAGGAGE\"\n501 City Grill - ROC
 KSTAR PARKING\" duo\nAbbey Road - DAVID PETRETTO\"\nA J Gators - Hillt
 op - VIC & JOSH\"\nBaker Street - BLIND TOONA\nBayside Inn - SPECIAL T
 OUCH\nBlue Pete's - WOODY BECKNER TRIO (JAZZ)\nCatch 31 - DJ ANDY KIM\
 nChick's Oyster Bar - PLASTIC EDDIE\nFinn McCool's - KEVIN BLEAKLY\"\n
 Fly n Fishbone - ANDRE COTMAN W/ GUEST VOCALS\nGil's Bar and Grill - D
 IRGE FOR THE SLAIN\nGreen Oak Pub - KRISTOFFER WRIGHT\nGreen Parrot - 
 54 STEPS\nH2O - JESSE CHONG W/ FULL BAND!!\nHalf Shell - NO DREADS W/ 
 RUDE BUDDHA & MICROJOY\nH K On The Bay - GRANT AUSTIN TAYLOR\nHot Tuna
  - BORDERLINE CRAZY\"\nHunt Room - SKYLARK\nJewish Mother - D J WILLIA
 MS PROJEKT\"\nKeagans - Town Center - VB \"ERIC & CHAY\" 10pm\nKeagans
  Sports Bar - VB \"DAVE CAVITT\" 10pm\nKnuckleheads - VB \"RIVER BOYZ\
 "\nKokoamos - VB \"BUTTER\nLucky Oyster - VB \"KEVIN KELLY BAND\nLuxur
 y Brown - FUZZ BAND 6:30\nMurphy's Irish Pub - JOHN ICKES\nOffshore Ba
 r & Grill - JIVEHAMMER\nOtani - H.M. JOHNSON\nParlay's - VB \"SUBURBAN
  KEY PARTY\"\nPeppermint Beach Club - AFTER THE BURIAL, VEIL OF MAYA, 
 ABACABB, THIS TIME ITS WAR\nPoppa's Pub - VB \"NHP\"\nScandals - VB \"
 BLUE LORDS\"\nSmackwater Jacks- VB \"THIN AIR RISING\nSouth Beach Gril
 l - 10 SPOT\nTiki Sea Grille - Sandbridge Rd - VB \"WARREN SEABURG & F
 INS\"\nVirginia Beach Convention Center - THE CATZ MEOW\nWaterman's - 
 DKR (Dave, Kate and Ross) 9:30\n\nFor more information visit https://v
 bnightlife.com/events/friday-nights-band-event-3
DTSTART:20090213T230000Z
DTEND:20090214T000000Z
CATEGORIES:live, music
LOCATION:Virginia Beach
WEBSITE:
URL:
CONTACT:
ORGANIZER;CN="Nicole Maxino":https://vbnightlife.com/profile/NicoleMax
 ino
ATTACH;FMTTYPE="image/jpeg":http://storage.ning.com/topology/rest/1.0/
 file/get/1664100237?profile=original
ATTENDEE;ROLE=REQ-PARTICIPANT;PARTSTAT=ACCEPTED;RSVP=TRUE;CN="Nicole M
 axino":https://vbnightlife.com/profile/NicoleMaxino
END:VEVENT
END:VCALENDAR
