BEGIN:VCALENDAR
PRODID:NingEventWidget-v1
VERSION:2.0
METHOD:PUBLISH
BEGIN:VEVENT
UID:2508951:Event:9980
DTSTAMP:20260425T142554Z
SUMMARY:FRIDAY NIGHT'S BAND / EVENT LISTING
DESCRIPTION:15th Street Raw Bar - DELOREANS\n501 City Grill - ROCKSTAR
  PARKING\n757 - JRB\nAbbey Road - WARREN SEABURG\nAcapulco Tropical Me
 xican Restaurant - LATIN NIGHTS\nA J Gators - General Booth - DANCE PA
 RTY WITH DJ SCOTTY 9PM TO 1:30 AM\nA J Gators - Granby Street - Norfol
 k BRYAN DUNN\nA J Gators - Hilltop - KNOWING ABBOT\nA J Gators - shore
  drive -\nAllure Champagne Lounge - DJ SUAVE\nAvanti - DJ VITALI\nBake
 r's Street - BUTTER\nBlue Pete's - JAZZ GROUP\nBoneshakers - TRIPLE SH
 OT\nBoomerangs -\nCabo -\nCatch 31 - DJ ANDY\nThe Cave - DJ DC , Freak
 y Friday: Ladies Free til 10:30pm, Gentleman $5 til 10:30pm\nCentral 1
 11 -\nChicho's Strawbridge - NO DREADS\nChrysler Hall - Norfolk \"RODN
 EY CARRINGTON\nClub Mystique - MALE REVIEW/COLLEGE NIGHT\nClub Relevan
 t -\nClutch - 4 FRONT\nCrocs - Happy Hour 4pm to 9pm\nEncore Lounge - 
 DJ MISTA NICE\nFinn McCools - JON HARRELL 9pm\nFly n Fishbone - ANDRE 
 COTMON\nThe Frog - KARAOKE 9PM\nFunny Bone - PAULY SHORE\nG F Keagans 
 - Hilltop - COLOR BLIND\nGil's Bar & Grill -\nGreen Oak Pub - WOODWORK
 \nGreen Parrot Grille -\nGuadalajara - Granby - SIGNATURE FRIDAYS\nH2O
  - GREY MATTER\nHalf Shell - GENUFLECT, DREW, BURNCYCLE\nHK On The Bay
  - MOTORPSYCHIC\nHot Tuna - DJ\nJewish Mother - JOHHNY A\nKeagans- Tow
 ne Center- DAN ZINGO 10PM\nKeagans- Upton Drive- VICTORIAS RYAN 10PM\n
 Kokoamos - ELEMENT\nLucky Oyster- JAMES & KAT\nLunasea - DJ DEXX\nLuxu
 ry Brown's- JAZZ BAND\nMiss Kitty's - PART-TIME SAINTS\nMurphy's Irish
  Pub - JOHN ICKES\nNorva- GIRL TALK\nOff Shore - HAT TRIX\nO'Sullivan'
 s Wharf - Norfolk\nOtani - H M JOHNSON\nPeabody's - COLLEGE NIGHT- DOD
 GEBALL\nPoppa's Pub - NHP\nRegal Beagle -\nScandals - OFF THE CHAIN\nS
 mackwater Jack's - BLUE LORDS\nSouth Beach Grill - EL KABONG\nStarz-\n
 Tiki Seagrille - 80s/ 90s Night\nUpper Deck - COOLIN' OUT\nWaterman's 
 - LOCALS FAVORITE -ORANGE CRUSHES $3\n\nFor more information visit htt
 ps://vbnightlife.com/events/friday-nights-band-event-10
DTSTART:20090403T040000Z
DTEND:20090404T035900Z
CATEGORIES:bands, dj
LOCATION:Virginia Beach
WEBSITE:
URL:
CONTACT:
ORGANIZER;CN="Nicole Maxino":https://vbnightlife.com/profile/NicoleMax
 ino
ATTACH;FMTTYPE="image/jpeg":http://storage.ning.com/topology/rest/1.0/
 file/get/1664070216?profile=original
ATTENDEE;ROLE=REQ-PARTICIPANT;PARTSTAT=ACCEPTED;RSVP=TRUE;CN="Nicole M
 axino":https://vbnightlife.com/profile/NicoleMaxino
END:VEVENT
END:VCALENDAR
