BEGIN:VCALENDAR
PRODID:NingEventWidget-v1
VERSION:2.0
METHOD:PUBLISH
BEGIN:VEVENT
UID:2508951:Event:276028
DTSTAMP:20260421T100253Z
SUMMARY:FRIDAY NIGHT PRE PLUNGE PARTY WITH SLAP NATION
DESCRIPTION: Friday Night Pre-Plunge Party\nTime:Â Â  6 pmÂ  lÂ Â Loca
 tion:Â Main Tent on the beachÂ \n Chill out with family, friends, food
  and music as we kick-start the festivities with Slapnation.Â DetailsÂ
  \n\nENJOY Motown, Beach Music, Disco and all of your favorite music w
 ithÂ SLAPNATION:Â http://slapnationband.com/\n\n\nFor more information
  visit https://vbnightlife.com/events/friday-night-pre-plunge-party-wi
 th-slap-nation
DTSTART:20140205T230000Z
DTEND:20140206T030000Z
CATEGORIES:fundraiser, "polar plunge", "special olympics"
LOCATION:Oceanfront at 6th Street tent
WEBSITE:
URL:
CONTACT:
ORGANIZER;CN="VBnightlife.com":https://vbnightlife.com/profile/admin
ATTACH;FMTTYPE="image/jpeg":http://storage.ning.com/topology/rest/1.0/
 file/get/1664224730?profile=original
ATTENDEE;ROLE=REQ-PARTICIPANT;PARTSTAT=ACCEPTED;RSVP=TRUE;CN="VBnightl
 ife.com":https://vbnightlife.com/profile/admin
END:VEVENT
END:VCALENDAR
