BEGIN:VCALENDAR
PRODID:NingEventWidget-v1
VERSION:2.0
METHOD:PUBLISH
BEGIN:VEVENT
UID:2508951:Event:300723
DTSTAMP:20260423T162448Z
SUMMARY:FREE THANKSGIVING DINNER FOR OUR MILITARY and AFTER PARTY W/ F
 ERAL
DESCRIPTION:ATTENTION  \n JAGER'S IS LOOKING FOR VOLUNTEERS TO HELP S
 ERVE AND COOK THANKSGIVING DINNER FOR OUR MILITARY MEN, WOMEN AND THEI
 R FAMILIES ! ! !  THE DATE IS WED NOV. 26th, (THANKSGIVING EVE) FROM 
 5:00 - 8:00 P.M. WE WILL BE SERVING ROAST TURKEY, STUFFING, MASHED POT
 ATOES & GRAVY, GREEN BEANS, DINNER ROLLS AND PIE !\n WE CAN SERVE 175 
 PEOPLE AND IT IS ALL FREE, FREE, FREE TO THE FIRST 175 PEOPLE WITH A M
 ILITARY I.D. CARD.\n THANKSGIVING DINNER IS ON JAGER'S !!  ANYONE THAT
  IS WILLING TO HELP PLEASE CALL THE BAR AT 757-963-5666 OR 757-675-848
 8 AND ASK FOR JR  THEN........AFTER PARTY AT JAGER'S WITH MUSIC BY FER
 AL FROM 8:30PM - 1:00AM WITH KILLER DRINK SPECIALS AND MORE !!!! \n J
 AGER'S WOULD LIKE TO THANK SYSCO OF HAMPTON AND OUR OTHER VENDORS FOR 
 THE FOOD DONATIONS !! WE WOULD ALSO LIKE TO THANK ALL OF OUR MILITARY 
 SERVICE MEMBERS FOR KEEPING US SAFE !!!  THANK YOU ALL ! ! ! \n\n\nFo
 r more information visit https://vbnightlife.com/events/free-thanksgiv
 ing-dinner-for-our-military
DTSTART:20141126T220000Z
DTEND:20141127T010000Z
CATEGORIES:"thanksgiving dinner", "free thanksgiving dinner for the mi
 litary"
LOCATION:JAGER'S BEACH BAR & GRILL
WEBSITE:
URL:
CONTACT:757 963 5666
ORGANIZER;CN="VBnightlife.com":https://vbnightlife.com/profile/admin
ATTACH;FMTTYPE="image/jpeg":http://storage.ning.com/topology/rest/1.0/
 file/get/1664253224?profile=original
ATTENDEE;ROLE=REQ-PARTICIPANT;PARTSTAT=ACCEPTED;RSVP=TRUE;CN="Rolan St
 ears":https://vbnightlife.com/profile/RolanStears
ATTENDEE;ROLE=REQ-PARTICIPANT;PARTSTAT=ACCEPTED;RSVP=TRUE;CN="VBnightl
 ife.com":https://vbnightlife.com/profile/admin
END:VEVENT
END:VCALENDAR
