BEGIN:VCALENDAR
PRODID:NingEventWidget-v1
VERSION:2.0
METHOD:PUBLISH
BEGIN:VEVENT
UID:2508951:Event:294231
DTSTAMP:20260425T214008Z
SUMMARY:FREE Student Tickets to Walter Beasley at the Sheraton Norfolk
  Friday Night
DESCRIPTION:FREE TICKETS for STUDENTS to Walter Beasley show at Sherat
 on Norfolk Waterside Hotel tomorrow night - normally $45! Details on t
 he show here: Walter Beasley In Concert\n\nUse this link to get your 
 free tickets and show your student ID at the door!  \nhttp://www.brow
 npapertickets.com/event/749323  Share with any students you may know.
  This will be a great show!\n\n\n\n \n Students - Free General Admis
 sion to Walter Beasley's 8/29 Concert!  \n\nIt's called taking \"No C
 hild Left Behind To A New Level...\"\n \nTo order student tickets, c
 lick here, or \nCall 800 838 3006 Brown Paper Tickets.\n \nBe prep
 ared to show ID. \n \nMinor student must be accompanied by an adult.
 \n \nRegards,\nJazz Informance LLC\n\n\n\n\n\n\n\n\n \n\nFor more in
 formation visit https://vbnightlife.com/events/free-student-tickets-to
 -walter-beasley-at-the-sheraton-norfolk-fr
DTSTART:20140829T220000Z
DTEND:20140830T020000Z
CATEGORIES:concert, "walter beasley"
LOCATION:Sheraton Waterside Norfolk
WEBSITE:
URL:
CONTACT:
ORGANIZER:Jazz Informance/ Walter Beasley / VBnightlife / NorfolkNight
 life.com
ATTACH;FMTTYPE="image/jpeg":http://storage.ning.com/topology/rest/1.0/
 file/get/1664247477?profile=original
ATTENDEE;ROLE=REQ-PARTICIPANT;PARTSTAT=ACCEPTED;RSVP=TRUE;CN="VBnightl
 ife.com":https://vbnightlife.com/profile/admin
END:VEVENT
END:VCALENDAR
