BEGIN:VCALENDAR
PRODID:NingEventWidget-v1
VERSION:2.0
METHOD:PUBLISH
BEGIN:VEVENT
UID:2508951:Event:299180
DTSTAMP:20260422T064522Z
SUMMARY:FREE RIDE ON UBER - CODE INSIDE
DESCRIPTION: Uber is a mobile app for friendly, affordable rides at t
 he tap of a button. They are fast, efficient and less expensive than a
  taxi! Search Uber in the app store to download, sign up with the new 
 user code NICOLEM690 in the payments section and your first ride free!
  (up to $15). \n\nFor more information visit https://vbnightlife.com/e
 vents/free-ride-on-uber-code-inside
DTSTART:20160404T040000Z
DTEND:20160405T035900Z
CATEGORIES:"free ride on uber", "things to do in virginia beach"
LOCATION:EVERYWHERE
WEBSITE:
URL:
CONTACT:
ORGANIZER:VBnightlife.com / VBdaylife.com / VBhotdeals.com
ATTACH;FMTTYPE="image/jpeg":http://storage.ning.com/topology/rest/1.0/
 file/get/1664249553?profile=original
ATTENDEE;ROLE=REQ-PARTICIPANT;PARTSTAT=ACCEPTED;RSVP=TRUE;CN="VBnightl
 ife.com":https://vbnightlife.com/profile/admin
END:VEVENT
END:VCALENDAR
