BEGIN:VCALENDAR
PRODID:NingEventWidget-v1
VERSION:2.0
METHOD:PUBLISH
BEGIN:VEVENT
UID:2508951:Event:300946
DTSTAMP:20260423T031715Z
SUMMARY:FREE MEALS FOR VETERANS ON VETERAN'S DAY AND OTHER EXCLUSIVE M
 ILITARY DEALS BROUGHT TO YOU BY MILITARY BRIDGE
DESCRIPTION: OLIVE GARDEN: Veterans Eat Free. Olive Garden Restaura
 nts offer a free meal (with proof of service) from a list of several e
 ntrees on a special menu. This special is scheduled for Tuesday, Nov
 ember 11, 2014. All special menu entrees come with freshly baked garli
 c breadsticks and choice of unlimited soup or salad. Family members di
 ning with the veteran or service member also receive 10% off their mea
 l.\n APPLEBEE'S: Military Veterans and Active-Duty Service Members w
 ill be able to eat FREE from the Applebee's Veteran's Day Menu at a
 ny Applebee's across the U.S. on Veterans Day, Tuesday, November 11, 2
 014 with id.\n GOLDEN CORRAL: Golden Corral's annual Military Appre
 ciation Monday dinner will be held on Monday, November 17, 2014, fr
 om 5 to 9 pm in all Golden Corral restaurants nationwide. The FREE di
 nner meal is a special \"thank you tribute\" to any person who has eve
 r served in the United States Military. If you are a veteran, retired,
  currently serving, in the National Guard or Reserves, you are invited
  to join us for Golden Corral's Military Appreciation Monday dinner.\n
  CHILI'S: FREE meal, Veterans Day, Nov 11, 2014 from 11am-5pm.  Ch
 ili's is offering a free entree from the Veterans Day menu to veterans
  or active duty military members. You'll need to show proof of militar
 y service to get your free Veterans Day meal.\n\nTHIS IS JUST A SAMPLI
 NG OF THE RESTAURANT DEALS OFFERED.  FOR A COMPLETE LIST AS WELL AS R
 ETAIL AND ENTERTAINMENT DEALS VISIT: http://www.militarybridge.com/bl
 og/2014/11/1/257/militarybridges-big-list-of-veterans-day-freebies-dis
 counts-and-events/\n\nFor more information visit https://vbnightlife.c
 om/events/free-meals-for-veterans-on-veteran-s-day-and-other-exclusive
 -mili
DTSTART:20141111T050000Z
DTEND:20141112T045900Z
CATEGORIES:"military deals", "military discounts", "veterans day disco
 unt and deals"
LOCATION:EVERYWHERE
WEBSITE:
URL:
CONTACT:
ORGANIZER;CN="VBnightlife.com":https://vbnightlife.com/profile/admin
ATTACH;FMTTYPE="image/jpeg":http://storage.ning.com/topology/rest/1.0/
 file/get/1664255365?profile=original
ATTENDEE;ROLE=REQ-PARTICIPANT;PARTSTAT=ACCEPTED;RSVP=TRUE;CN="VBnightl
 ife.com":https://vbnightlife.com/profile/admin
END:VEVENT
END:VCALENDAR
