BEGIN:VCALENDAR
PRODID:NingEventWidget-v1
VERSION:2.0
METHOD:PUBLISH
BEGIN:VEVENT
UID:2508951:Event:11699
DTSTAMP:20260425T185333Z
SUMMARY:FREE FRIDAYS @ CABO CAFE
DESCRIPTION:Free Fridays. Everything on the menu is half off..... 7pm 
 to 10pm..\n\nFor more information visit https://vbnightlife.com/events
 /free-fridays-cabo-cafe
DTSTART:20090508T230000Z
DTEND:20090509T020000Z
CATEGORIES:happy, hour
LOCATION:Cabo Cafe
WEBSITE:
URL:
CONTACT:
ORGANIZER:Cabo
ATTACH;FMTTYPE="image/jpeg":http://storage.ning.com/topology/rest/1.0/
 file/get/1664070647?profile=original
ATTENDEE;ROLE=REQ-PARTICIPANT;PARTSTAT=ACCEPTED;RSVP=TRUE;CN="Nicole M
 axino":https://vbnightlife.com/profile/NicoleMaxino
END:VEVENT
END:VCALENDAR
