BEGIN:VCALENDAR
PRODID:NingEventWidget-v1
VERSION:2.0
METHOD:PUBLISH
BEGIN:VEVENT
UID:2508951:Event:315695
DTSTAMP:20260422T150848Z
SUMMARY:FREE Family Fest at Virginia MOCA
DESCRIPTION:  \n     Sunday  9 to 5  \nMOCA hosts FREE Family Fe
 sts every other month. Enjoy hands-on art activities inspired by our e
 xhibitions, refreshments, a gallery scavenger hunt and fun for the who
 le family! \nMOCA hosts FREE Family Fests every other month. Family 
 Fest offers a unique opportunity to create, explore, enjoy art, and mo
 st important, have fun together! Themed around current exhibitions, fa
 milies can create their own art, play detective in a gallery scavenger
  hunt and experience the interactive ARTlab\nCreate holiday-inspired o
 rigami and browse the booths of local artists at MOCA’s Annual Holid
 ay Craft Sale.\n\nFor more information visit https://vbnightlife.com/e
 vents/free-family-fest-at-virginia-moca-3
DTSTART:20151206T140000Z
DTEND:20151206T220000Z
CATEGORIES:"family fun", "virginia moca"
LOCATION:VIRGINIA MUSEUM OF CONTEMPORARY ART
WEBSITE:
URL:
CONTACT:
ORGANIZER:VBnightlife.com  / vbdaylife
ATTACH;FMTTYPE="image/jpeg":http://storage.ning.com/topology/rest/1.0/
 file/get/1664297279?profile=original
ATTENDEE;ROLE=REQ-PARTICIPANT;PARTSTAT=ACCEPTED;RSVP=TRUE;CN="VBnightl
 ife.com":https://vbnightlife.com/profile/admin
END:VEVENT
END:VCALENDAR
