BEGIN:VCALENDAR
PRODID:NingEventWidget-v1
VERSION:2.0
METHOD:PUBLISH
BEGIN:VEVENT
UID:2508951:Event:162841
DTSTAMP:20260422T031748Z
SUMMARY:FREE FAMILY FEST AT THE MUSEUM OF CONTEMPORARY ARTS
DESCRIPTION:\n\nJoin us for free gallery admission, hands-on artmaking
  activities, scavenger hunts and refreshments. Kids can experiment wit
 h painting landscapes and creating \"stand-up\" landscapes. Â \n\n\n\n
 Sunday April 29, 2-4pmÂ \nMOCA is hosting one of ourFREE Family FestsÂ
  this weekend! Â \nÂ \nEnjoy hands-on art activities inspired by curre
 nt exhibitions, scavenger hunts, refreshments and fun for the whole fa
 mily. Family Fest is sponsored in part by STIHL.\nÂ \nThis is also the
 Â last dayÂ our current exhibitions will be on view!Â \n\n\n\n\n\n\n\n
 \n\n\n\n\nÂ \nÂ Â \n\n\n\n\n\nFor more information visit https://vbnig
 htlife.com/events/free-family-fest-at-the-contemporary-arts-center-of-
 virginia
DTSTART:20120429T180000Z
DTEND:20120429T200000Z
CATEGORIES:family, fun
LOCATION:MUSEUM OF CONTEMPORARY ARTS
WEBSITE:
URL:
CONTACT:
ORGANIZER;CN="VBnightlife.com":https://vbnightlife.com/profile/admin
ATTACH;FMTTYPE="image/jpeg":http://storage.ning.com/topology/rest/1.0/
 file/get/1664150103?profile=original
ATTENDEE;ROLE=REQ-PARTICIPANT;PARTSTAT=ACCEPTED;RSVP=TRUE;CN="VBnightl
 ife.com":https://vbnightlife.com/profile/admin
END:VEVENT
END:VCALENDAR
