BEGIN:VCALENDAR
PRODID:NingEventWidget-v1
VERSION:2.0
METHOD:PUBLISH
BEGIN:VEVENT
UID:2508951:Event:171865
DTSTAMP:20260420T110539Z
SUMMARY:FREE FAMILY EVENTS @ CBN 50 YEARS CELEBRATION!
DESCRIPTION:Family Festival\n11:00am - 6:30pm (See Complete Schedule o
 f Events)\nFestival begins at 11:00am, with an amazing assortment of a
 ctivities for all ages. Then be sure to stay for our grand celebration
  at 7:00pm with the Virginia Symphony Orchestra, MercyMe, Gary Valenci
 ano and other musical guests, Virginia Governor Bob McDonnell, Pat Wil
 liams of the Orlando Magic, world-renowned evangelist Reinhard Bonnke,
  and a spectacular Zambelli Fireworks display to conclude the day.\n\n
 Hot air balloon rides give you a birds eye view of the entire campus\n
 Children's Activities\nAntique car show and F.A.I.T.H. Riders Motorcyc
 le Ministry\nTour the set of The 700 Club, CBN News, and the CBN 50 ye
 ars timeline tour in CBN's TV studios (Studio Headquarters Building, 1
 1am - 4pm, every half hour)\nPreview SuperbookÂ® in the Main Theaterâ€
 ”an amazing animated video series of your favorite Bible stories (noon
  to 4pm, every hour on the hour)\nK-LOVE Christian radio broadcasting 
 on site\nTour CBN's International Village and explore interactive comm
 unities in 16 countries.\nExperience an Operation Blessing Internation
 al mock disaster  relief site with a hands on tour\nMilitary vehicle d
 isplays\nStage Combat Displays (1:00pm - 4:00pm)\nRegent University st
 udents will perform plays, music and improv\nUnique arts & craft vendo
 rs from up and down the east coast\nA variety of food vendors to delig
 ht everyone's tastes ($)\nPrayer stations for individual ministry\nEnj
 oy a Delicious Dinner Meal ($):\nFresh Fried Chicken (cooked on the gr
 ounds)\nNorth Carolina BBQ\n...and all the fixin's, including beverage
 \n\n\n\n\n\nFor more information visit https://vbnightlife.com/events/
 free-family-events-cbn-50-years-celebration
DTSTART:20111001T150000Z
DTEND:20111002T011500Z
CATEGORIES:"virginia beach events", "virginia beach entertainment", "v
 irginia beach bands", "virginia beach djs", "virginia beach family fun
 ", "virginia beach fundraisers", cbn, "cbn 50 year", free
LOCATION:CBN Campus
WEBSITE:http://www.cbn.com/special/cbn-50th-broadcasting/index.aspx
URL:http://www.cbn.com/special/cbn-50th-broadcasting/index.aspx
CONTACT:
ORGANIZER;CN="VBnightlife.com":https://vbnightlife.com/profile/admin
ATTACH;FMTTYPE="image/jpeg":http://storage.ning.com/topology/rest/1.0/
 file/get/1664153670?profile=original
ATTENDEE;ROLE=REQ-PARTICIPANT;PARTSTAT=ACCEPTED;RSVP=TRUE;CN="VBnightl
 ife.com":https://vbnightlife.com/profile/admin
END:VEVENT
END:VCALENDAR
