BEGIN:VCALENDAR
PRODID:NingEventWidget-v1
VERSION:2.0
METHOD:PUBLISH
BEGIN:VEVENT
UID:2508951:Event:299147
DTSTAMP:20260422T091343Z
SUMMARY:FREE HALLOWEEN EVENT AT VIRGINIA MUSEUM OF CONTEMPORARY ART - 
 EXCLUSIVELY FOR TEENS
DESCRIPTION:Â Teen Takeover Night: Zombie PromÂ \nFREE EVENT\nHampton 
 Roads teens take over MOCA for an evening of fun. At this very special
  Teen Takeover Night, we will celebrate Halloween with a zombie prom!Â
   Teens are encouraged to come in zombie costumes, and we will crown a
  zombie prom king and queen after an evening of spooky artmaking, ghou
 lish dancing, monstrous music, witchy mocktails, and eerie eats.Â Teen
  Takeover is a free event exclusively for teens in middle and high sch
 ool, hosted by students from Virginia Beach schools.\n\n\n\n\n\nFor mo
 re information visit https://vbnightlife.com/events/free-event-exclusi
 vely-for-teens
DTSTART:20141101T230000Z
DTEND:20141102T010000Z
CATEGORIES:"teen takeover", "teen events", "things to do in virginia b
 each"
LOCATION:Virginia Moca
WEBSITE:
URL:
CONTACT:
ORGANIZER;CN="VBnightlife.com":https://vbnightlife.com/profile/admin
ATTACH;FMTTYPE="image/jpeg":http://storage.ning.com/topology/rest/1.0/
 file/get/1664250224?profile=original
ATTENDEE;ROLE=REQ-PARTICIPANT;PARTSTAT=ACCEPTED;RSVP=TRUE;CN="Rolan St
 ears":https://vbnightlife.com/profile/RolanStears
ATTENDEE;ROLE=REQ-PARTICIPANT;PARTSTAT=ACCEPTED;RSVP=TRUE;CN="VBnightl
 ife.com":https://vbnightlife.com/profile/admin
END:VEVENT
END:VCALENDAR
