BEGIN:VCALENDAR
PRODID:NingEventWidget-v1
VERSION:2.0
METHOD:PUBLISH
BEGIN:VEVENT
UID:2508951:Event:7676
DTSTAMP:20260425T213503Z
SUMMARY:Force Live At Rosy's II
DESCRIPTION:Force live at Rosy's II\nChesapeake blvd Norolk,Va.\nFree 
 cover\nRock out all night!\n\nFor more information visit https://vbnig
 htlife.com/events/force-live-at-rosys-ii
DTSTART:20090308T020000Z
DTEND:20090308T060000Z
CATEGORIES:performance
LOCATION:Rosy'sII 8480 Chesapeake Blvd. Norolk, Va
WEBSITE:
URL:
CONTACT:
ORGANIZER;CN="Steve Athey":https://vbnightlife.com/profile/SteveAthey
ATTACH;FMTTYPE="image/jpeg":http://storage.ning.com/topology/rest/1.0/
 file/get/3723681083?profile=original
ATTENDEE;ROLE=REQ-PARTICIPANT;PARTSTAT=ACCEPTED;RSVP=TRUE;CN="Steve At
 hey":https://vbnightlife.com/profile/SteveAthey
END:VEVENT
END:VCALENDAR
