BEGIN:VCALENDAR
PRODID:NingEventWidget-v1
VERSION:2.0
METHOD:PUBLISH
BEGIN:VEVENT
UID:2508951:Event:7538
DTSTAMP:20260425T225442Z
SUMMARY:FORCE
DESCRIPTION:FORCE playing at ROSY'S on Cheasapeake on Saturday March 7
 th.\nFORCE playes classic and Southern rock and has a song list of 70 
 songs.\n\nFor more information visit https://vbnightlife.com/events/fo
 rce-1
DTSTART:20090308T023000Z
DTEND:20090308T063000Z
CATEGORIES:music, performance
LOCATION:ROSY'S
WEBSITE:
URL:
CONTACT:
ORGANIZER;CN="James Vining":https://vbnightlife.com/profile/JamesVinin
 g
ATTACH;FMTTYPE="image/jpeg":
ATTENDEE;ROLE=REQ-PARTICIPANT;PARTSTAT=ACCEPTED;RSVP=TRUE;CN="Steve At
 hey":https://vbnightlife.com/profile/SteveAthey
ATTENDEE;ROLE=REQ-PARTICIPANT;PARTSTAT=ACCEPTED;RSVP=TRUE;CN="James Vi
 ning":https://vbnightlife.com/profile/JamesVining
END:VEVENT
END:VCALENDAR
