BEGIN:VCALENDAR
PRODID:NingEventWidget-v1
VERSION:2.0
METHOD:PUBLISH
BEGIN:VEVENT
UID:2508951:Event:180250
DTSTAMP:20260420T152322Z
SUMMARY:FOOTBALL FRENZY TO BENEFIT CHILDREN'S PERFORMANCE WORKSHOP
DESCRIPTION:\n\n\nWe are getting a percentage of food sales. We also w
 ill be doing a silent auction, 50/50 raffle, have door prizes, a \"Jel
 ly Bean Blitz\" where you guess the amount of J. Beans in jars for a p
 rize. A couple of the V A Destroyers Cheerleaders are coming out and w
 e will sell photos that can be taken with them for $ 10. We will also 
 have Corn Hole set up out back.\n\nIf any business wants to donate for
  the silent auction or door prizes please let me know! nicole@vbnightl
 ife.com\n\nFor more information visit https://vbnightlife.com/events/f
 ootball-frenzy-to-benefit-children-s-performance-workshop
DTSTART:20111113T170000Z
DTEND:20111113T210000Z
CATEGORIES:fundraiser
LOCATION:Donkey Dawgs
WEBSITE:
URL:
CONTACT:
ORGANIZER:VBnightlife.com / Children's Performance Workshops
ATTACH;FMTTYPE="image/jpeg":http://storage.ning.com/topology/rest/1.0/
 file/get/1664158661?profile=original
ATTENDEE;ROLE=REQ-PARTICIPANT;PARTSTAT=ACCEPTED;RSVP=TRUE;CN="Susan Po
 pe":https://vbnightlife.com/profile/SusanPope
ATTENDEE;ROLE=REQ-PARTICIPANT;PARTSTAT=ACCEPTED;RSVP=TRUE;CN="VBnightl
 ife.com":https://vbnightlife.com/profile/admin
ATTENDEE;ROLE=REQ-PARTICIPANT;PARTSTAT=ACCEPTED;RSVP=TRUE;CN=Anita:htt
 ps://vbnightlife.com/profile/Ann61
END:VEVENT
END:VCALENDAR
