BEGIN:VCALENDAR
PRODID:NingEventWidget-v1
VERSION:2.0
METHOD:PUBLISH
BEGIN:VEVENT
UID:2508951:Event:7948
DTSTAMP:20260425T201654Z
SUMMARY:'Flashback 5' @ Towne Point Pub, Portsmouth
DESCRIPTION:Come out to Towne Point Pub, Saturday, March 7 and 'travel
  through time' with Flashback 5 as they play something for everyone.\n
 \nFrom ‘British Invasion’ to ‘Standards’, ‘Soul’ to ‘Psy
 chedelic’, ‘Country’ to ‘R&B’, Southern-rock’ to ‘New Wa
 ve’ & ‘Funk’ to ‘Folk-Rock’.\n\nTowne Point Pub, Saturday, M
 arch 7, 9:30 - 1:30\n\nFor more information visit https://vbnightlife.
 com/events/flashback-5-towne-point-pub
DTSTART:20090308T023000Z
DTEND:20090308T063000Z
CATEGORIES:music, live
LOCATION:Towne Point Pub
WEBSITE:https://www.activediner.com/Towne-Point-Pub/restaurant/Portsmo
 uth/VA/US/map/103365
URL:https://www.activediner.com/Towne-Point-Pub/restaurant/Portsmouth/
 VA/US/map/103365
CONTACT:(757) 483-2500
ORGANIZER;CN="John Chester":https://vbnightlife.com/profile/JohnCheste
 r
ATTACH;FMTTYPE="image/jpeg":http://storage.ning.com/topology/rest/1.0/
 file/get/1664070410?profile=original
ATTENDEE;ROLE=REQ-PARTICIPANT;PARTSTAT=ACCEPTED;RSVP=TRUE;CN="John Che
 ster":https://vbnightlife.com/profile/JohnChester
ATTENDEE;ROLE=REQ-PARTICIPANT;PARTSTAT=ACCEPTED;RSVP=TRUE;CN="The Bann
 ed":https://vbnightlife.com/profile/thebanned
END:VEVENT
END:VCALENDAR
