BEGIN:VCALENDAR
PRODID:NingEventWidget-v1
VERSION:2.0
METHOD:PUBLISH
BEGIN:VEVENT
UID:2508951:Event:30140
DTSTAMP:20260420T090606Z
SUMMARY:'Flashback 5' at Tiki Island Bar and Grill
DESCRIPTION:\n\nFor more information visit https://vbnightlife.com/eve
 nts/flashback-5-at-tiki-island-bar
DTSTART:20100214T030000Z
DTEND:20100214T060000Z
CATEGORIES:"bar/restaurant"
LOCATION:Tiki Island Bar and Grill
WEBSITE:http://www.facebook.com/pages/Virginia-Beach-VA/Tiki-Island-Ba
 r-Grill/161951623345?ref=search&sid=570774914.3851799542..1#!/pages/Vi
 rginia-Beach-VA/Tiki-Island-Bar-Grill/161951623345?v=info&ref=search
URL:http://www.facebook.com/pages/Virginia-Beach-VA/Tiki-Island-Bar-Gr
 ill/161951623345?ref=search&sid=570774914.3851799542..1#!/pages/Virgin
 ia-Beach-VA/Tiki-Island-Bar-Grill/161951623345?v=info&ref=search
CONTACT:757-689-8777
ORGANIZER;CN="The Banned":https://vbnightlife.com/profile/thebanned
ATTACH;FMTTYPE="image/jpeg":http://storage.ning.com/topology/rest/1.0/
 file/get/1664098900?profile=original
ATTENDEE;ROLE=REQ-PARTICIPANT;PARTSTAT=ACCEPTED;RSVP=TRUE;CN="The Bann
 ed":https://vbnightlife.com/profile/thebanned
END:VEVENT
END:VCALENDAR
