BEGIN:VCALENDAR
PRODID:NingEventWidget-v1
VERSION:2.0
METHOD:PUBLISH
BEGIN:VEVENT
UID:2508951:Event:320422
DTSTAMP:20260422T180150Z
SUMMARY:First Friday Vibe in the Creative District - jFind Your True L
 ove
DESCRIPTION:Takes place at most businesses from the corner of 17th and
  Arctic to the corner of 22nd and Cypress\nShop and meet the local art
 ists and businesses.  Live music at various locations including Bad A
 ss Coffee. \n\nFirst Friday ViBe is composed of creative business loo
 king to stimulate and enhance the cultural experience of life in Virgi
 nia Beach. \n\nLove is in the air in ViBe Creative District this Febr
 uary!\n\nFebruary's First Friday ViBe is all about finding your next t
 rue love whether it be a person, a drink, an artwork, a shop, or even 
 a whole neighborhood!\n \nTo see what businesses make up the ViBe ht
 tp://www.thevibedistrict.com/\n\nFor more information visit https://vb
 nightlife.com/events/first-friday-vibe-in-the-creative-district-1
DTSTART:20160205T210000Z
DTEND:20160206T000000Z
CATEGORIES:"first friday vibe", "things to do in virginia beach"
LOCATION:ViBe Creative District
WEBSITE:
URL:
CONTACT:
ORGANIZER:VBnightlife.com / vbdaylife / ViBe Creative District
ATTACH;FMTTYPE="image/jpeg":http://storage.ning.com/topology/rest/1.0/
 file/get/1664295913?profile=original
ATTENDEE;ROLE=REQ-PARTICIPANT;PARTSTAT=ACCEPTED;RSVP=TRUE;CN="VBnightl
 ife.com":https://vbnightlife.com/profile/admin
END:VEVENT
END:VCALENDAR
