BEGIN:VCALENDAR
PRODID:NingEventWidget-v1
VERSION:2.0
METHOD:PUBLISH
BEGIN:VEVENT
UID:2508951:Event:304706
DTSTAMP:20260420T115901Z
SUMMARY:POSTPONED TO FEB 25 • MARDI GRAS CELEBRATION IN HONOR OF RIC
 HARD STRAVITZ  BIRTHDAY PARTY
DESCRIPTION:  Mardi Gras event Features the works of Victor Nizovtsev
 . Refreshments provided\n\n\nThis is also a birthday celebration for S
 culptor, Richard Stravitz. Public invited!\n\n\n\n\n\n\n\nVictor Nizov
 tsev was born on August 29, 1965 in a region known as Ulan-Ude, next 
 to Lake Baical in Russia. His family moved to the Republic of Moldava 
 when Victor was young. He grew up in the town of Hincesti, 30 miles so
 utheast of the capital of Moldava, Chisinau. At age seven he entered H
 incesti's Art School for Children where he studied for five years. In 
 the 9th grade, Victor left home to study at Ilia Replin School for Art
  in Chisinau. His university plans were interrupted when he left for a
  mandatory two-year stint in the army where his talents were used to p
 aint military plans and pro-military billboards. After the army he ent
 ered the prestigious Vera Muhina University for Industrial Arts in St.
  Petersburg, Russia. In 1993 Victor finished his degree as fashion des
 igner and decorative painter. He then returned to Hincesti where he be
 gan painting for galleries in St. Petersburg and Chisinau. A prodigy w
 ho is prolific beyond measure, Mr. Nizovtsev's paintings are a hybrid 
 form of traditional Russian Lacquer, academic formalism and Surrealism
 .\n Victor presently resides in Washington, DC https://www.facebook.c
 om/p…/Victor-Nizovtsev/406305482792155\n\n\nFor more information vis
 it https://vbnightlife.com/events/first-friday-mardi-gras-at-richard-s
 travitz-fine-art-gallery-1
DTSTART:20150225T230000Z
DTEND:20150226T010000Z
CATEGORIES:art, "fine art", "things to do in virginia beach"
LOCATION:Richard Stravitz Fine Art Gallery
WEBSITE:http://www.sculpture-bronze.com
URL:http://www.sculpture-bronze.com
CONTACT:
ORGANIZER:VBnightlife.com / Richard Stravitz Galleries
ATTACH;FMTTYPE="image/jpeg":http://storage.ning.com/topology/rest/1.0/
 file/get/1664265767?profile=original
ATTENDEE;ROLE=REQ-PARTICIPANT;PARTSTAT=ACCEPTED;RSVP=TRUE;CN="Rolan St
 ears":https://vbnightlife.com/profile/RolanStears
ATTENDEE;ROLE=REQ-PARTICIPANT;PARTSTAT=ACCEPTED;RSVP=TRUE;CN="VBnightl
 ife.com":https://vbnightlife.com/profile/admin
END:VEVENT
END:VCALENDAR
