BEGIN:VCALENDAR
PRODID:NingEventWidget-v1
VERSION:2.0
METHOD:PUBLISH
BEGIN:VEVENT
UID:2508951:Event:10192
DTSTAMP:20260425T173011Z
SUMMARY:FINAL FOUR @ C.P. SHUCKERS (OCEANFRONT AND SHORE DRIVE)
DESCRIPTION:2009 NCAA Tournament: Final Four Is Set\n\nThe first semif
 inal will tip-off at 6:06pm ET with the second game following 40 minut
 es after the 1st game concludes. The National Championship Game will b
 e played on Monday April 6th @ 9:21pm ET\n\nby Elizabeth Trotta\nThe 2
 009 college basketball season is now down to four teams who will go to
  Detroit this weekend to decide the men's championship. While all four
  No. 1 seeds didn't make it to the Final Four this year, three powerho
 uses, Connecticut, Michigan State and North Carolina, did. Those three
  are joined by Villanova, who won it all last time it made it this far
 .\n\nIn the first game Saturday evening, UConn will take on Michigan S
 tate. UNC will meet Villanova in the second game.\n\nFor more informat
 ion visit https://vbnightlife.com/events/final-four-cp-shuckers
DTSTART:20090404T220000Z
DTEND:20090405T030000Z
CATEGORIES:sports
LOCATION:CP Shuckers
WEBSITE:
URL:
CONTACT:
ORGANIZER:CP Shuckers
ATTACH;FMTTYPE="image/jpeg":http://storage.ning.com/topology/rest/1.0/
 file/get/1664072699?profile=original
ATTENDEE;ROLE=REQ-PARTICIPANT;PARTSTAT=ACCEPTED;RSVP=TRUE;CN="Nicole M
 axino":https://vbnightlife.com/profile/NicoleMaxino
END:VEVENT
END:VCALENDAR
