BEGIN:VCALENDAR
PRODID:NingEventWidget-v1
VERSION:2.0
METHOD:PUBLISH
BEGIN:VEVENT
UID:2508951:Event:30054
DTSTAMP:20260420T115311Z
SUMMARY:FAT TUESDAY MARDI GRAS PARTY
DESCRIPTION:Masks, Music, and Mayhem! Come dressed in your \"Mardi Gra
 s Best\" and celebrate Fat Tuesday New Orleans' style at the Waterside
 . You will feast on traditional FAT TUESDAY dishes and adult beverages
  accompanied by live music by HOT BOUDIN BROTHERS ! The Bayou Boogaloo
  and Cajun Food Festival countdown begins! 129 DAYS TO THE 5TH ANNUAL 
 BAYOU BALL AND 130 DAYS TO THE 21ST ANNUAL BAYOU BOOGALOO AND CAJUN FO
 OD FESTIVAL!!! Free Bayou Ticket Give-Away while supplies last, Door P
 rizes and more!\n\nFor more information visit https://vbnightlife.com/
 events/fat-tuesday-mardi-gras-party
DTSTART:20100216T220000Z
DTEND:20100217T030000Z
CATEGORIES:band
LOCATION:NORFOLK WATERSIDE
WEBSITE:
URL:
CONTACT:
ORGANIZER;CN="VBnightlife.com":https://vbnightlife.com/profile/admin
ATTACH;FMTTYPE="image/jpeg":http://storage.ning.com/topology/rest/1.0/
 file/get/1664097957?profile=original
ATTENDEE;ROLE=REQ-PARTICIPANT;PARTSTAT=ACCEPTED;RSVP=TRUE;CN="VBnightl
 ife.com":https://vbnightlife.com/profile/admin
END:VEVENT
END:VCALENDAR
