BEGIN:VCALENDAR
PRODID:NingEventWidget-v1
VERSION:2.0
METHOD:PUBLISH
BEGIN:VEVENT
UID:2508951:Event:163342
DTSTAMP:20260423T193700Z
SUMMARY:Farm Bureau Live (Amphitheater) SHUTTLE
DESCRIPTION:Farm Bureau Live (Amphitheater) SHUTTLEFriday, August 19, 
 2011JOURNEY with Foreigner and Night RangerShowtime is 7:00 PMFrom Vir
 ginia Beach OceanfrontAtlantic Ave. (Southbound Side Only)\nShuttle St
 arts at 57th Street @5:30 PMShuttle Stops at 40th Street @5:40 PMShutt
 le Stops at 33rd Street @5:45 PMShuttle Stops at 28th Street @5:50 PMS
 huttle Stops at 23rd Street @5:55 PMShuttle Stops at 15th Street @6:00
  PMShuttle Stops at 6th Street @6:05 PMFrom 6th Street Express to Amph
 itheater\n\nFor more information visit https://vbnightlife.com/events/
 farm-bureau-live-amphitheater-shuttle
DTSTART:20110819T213000Z
DTEND:20110819T230000Z
CATEGORIES:"virginia beach transportation", "virginia beach concerts",
  "virginia beach ampitheater", "major concerts", "free transportation"
LOCATION:Virginia Beach Oceanfront
WEBSITE:
URL:
CONTACT:
ORGANIZER;CN="VBnightlife.com":https://vbnightlife.com/profile/admin
ATTACH;FMTTYPE="image/jpeg":http://storage.ning.com/topology/rest/1.0/
 file/get/1664149716?profile=original
ATTENDEE;ROLE=REQ-PARTICIPANT;PARTSTAT=ACCEPTED;RSVP=TRUE;CN="Rolan St
 ears":https://vbnightlife.com/profile/RolanStears
ATTENDEE;ROLE=REQ-PARTICIPANT;PARTSTAT=ACCEPTED;RSVP=TRUE;CN="VBnightl
 ife.com":https://vbnightlife.com/profile/admin
END:VEVENT
END:VCALENDAR
