BEGIN:VCALENDAR
PRODID:NingEventWidget-v1
VERSION:2.0
METHOD:PUBLISH
BEGIN:VEVENT
UID:2508951:Event:172043
DTSTAMP:20260420T105936Z
SUMMARY:FAMILY FUN/SPECIAL EVENTS
DESCRIPTION: \n4-10th street-North American Sandsculpting Championshi
 p\n18th - 29th street-NEPTUNE FESTIVAL BOARDWALK ART & CRAFT SHOW\n8th
  street-Neptune's Surfing Classic \n24th street-Neptune's 8K and 5K R
 un Park- 7:45am - 11pm\n32-36th street-Neptune's Volleyball Tournamen
 t-9am\n31st Street-Guava Jam-1 - 3pm\n17th street-The Cody and Austin 
 Band-1- 3pm\n24th street-Zephry (HJ)-1- 3pm \n24th street-Gina Delmas
 -3:30 - 5pm\n31st-street- Joe Gosman Band-3:30- 5pm\n17th street- Rich
  Whiskey Audition-3:30- 5pm\n31st street-DEJA-05:30pm - 7pm\n17th stre
 et The Rhondels-5:30- 7pm\n24th street-The River Boyz-5:30- 7pm\n31st 
 street-Borderline Crazy -7:30 - 9pm\n17th street-Carolina Soul Band-7:
 30- 9pm\n24th street-Molly Hatchet-7:30 - 9pm\n13th street- mOcean-8pm
 \nFIREWORKS 9:00-9:30pm\n17th street-Carolina Soul Band-09:30 - 11:00p
 m\n24th street-Rhythm Pigs-09:30 - 11:00pm\n31st street-The Fixx-09:30
  - 11:00pm\n\n\nFor more information visit https://vbnightlife.com/eve
 nts/family-fun-special-events
DTSTART:20111001T040000Z
DTEND:20111002T035900Z
CATEGORIES:virginia, beach, entertainment, bands, nightlife
LOCATION:Virginia Beach
WEBSITE:
URL:
CONTACT:
ORGANIZER;CN="VBnightlife.com":https://vbnightlife.com/profile/admin
ATTACH;FMTTYPE="image/jpeg":http://storage.ning.com/topology/rest/1.0/
 file/get/1664153935?profile=original
ATTENDEE;ROLE=REQ-PARTICIPANT;PARTSTAT=ACCEPTED;RSVP=TRUE;CN="VBnightl
 ife.com":https://vbnightlife.com/profile/admin
END:VEVENT
END:VCALENDAR
