BEGIN:VCALENDAR
PRODID:NingEventWidget-v1
VERSION:2.0
METHOD:PUBLISH
BEGIN:VEVENT
UID:2508951:Event:17141
DTSTAMP:20260425T113639Z
SUMMARY:FAMILY FEST @ CONTEMPORARY ART CENTER OF VIRGINIA
DESCRIPTION:FREE Family Fest\nSunday, July 19 2200 PARKS AVE, VB\nnoon
 -4pm\nFree admission\nFamilies receive free admission to the galleries
  and participate in a hands-on project inspired by Art of Glass 2 exhi
 bitions. Visitors enjoy complimentary refreshments and the opportunity
  to watch a regional glass artist working with glass.\n\nFor more info
 rmation visit https://vbnightlife.com/events/family-fest-contemporary-
 art
DTSTART:20090719T160000Z
DTEND:20090719T200000Z
CATEGORIES:family, art
LOCATION:Virginia Beach
WEBSITE:
URL:
CONTACT:
ORGANIZER;CN="VBnightlife.com":https://vbnightlife.com/profile/admin
ATTACH;FMTTYPE="image/jpeg":http://storage.ning.com/topology/rest/1.0/
 file/get/1664079714?profile=original
ATTENDEE;ROLE=REQ-PARTICIPANT;PARTSTAT=ACCEPTED;RSVP=TRUE;CN="VBnightl
 ife.com":https://vbnightlife.com/profile/admin
END:VEVENT
END:VCALENDAR
