BEGIN:VCALENDAR
PRODID:NingEventWidget-v1
VERSION:2.0
METHOD:PUBLISH
BEGIN:VEVENT
UID:2508951:Event:301231
DTSTAMP:20260422T210125Z
SUMMARY:FALL OYSTER HOOLEY AT MURPHY'S IRISH PUB featuring Live Music 
 with JACK BECKER
DESCRIPTION:Fall Oyster Hooley - INSIDE from noon to 5pm\nJack Becker 
 performs from 1 to 4pm\nWe are offering 2 irresistible options!\nYou c
 an pay $50 for All you Can eat and drink from noon to 5 for $50 ($5 of
  each ticket sold goes to Sensible Seafood Foundation)\n\nOysters\nFre
 sh Local Seafood\nBBQ\nDomestic Beer\nFireball\nRail Liquor\n\nOR\nYou
  can Join Us at no charge, enjoy the festivities, live music, real woo
 d burning fireplace and pay as you go! \n\nAt 9pm the Fabulous Charli
 e Austin will be performing with Don Bunch \n\n\nFor more information
  visit https://vbnightlife.com/events/fall-oyster-hooley-at-murphy-s-i
 rish-pub
DTSTART:20141115T050000Z
DTEND:20141116T045900Z
CATEGORIES:fundraiser, "jack becker", "things to do in virginia beach"
LOCATION:MURPHY'S IRISH PUB
WEBSITE:
URL:
CONTACT:
ORGANIZER;CN="VBnightlife.com":https://vbnightlife.com/profile/admin
ATTACH;FMTTYPE="image/jpeg":http://storage.ning.com/topology/rest/1.0/
 file/get/1664254226?profile=original
ATTENDEE;ROLE=REQ-PARTICIPANT;PARTSTAT=ACCEPTED;RSVP=TRUE;CN="VBnightl
 ife.com":https://vbnightlife.com/profile/admin
END:VEVENT
END:VCALENDAR
