BEGIN:VCALENDAR
PRODID:NingEventWidget-v1
VERSION:2.0
METHOD:PUBLISH
BEGIN:VEVENT
UID:2508951:Event:297017
DTSTAMP:20260422T210635Z
SUMMARY:BRIAN GRILLI AND VINYL HEADLIGHTS AT FALL CAJUN CRAWFISH BEER 
 AND WINE FESTIVAL TO BENEFIT LOCAL CHARITIES THRU YOUTH SERVICES CLUB
DESCRIPTION:Yes ladies and gentlemen we are doing it again. Another gr
 eat party to raise money for VB charities. 1000 of your closest friend
 s eating, drinking and having a great time. Music, cornhole, college f
 ootball, live music and much much more. Get your tickets while they la
 st.  \n\nTo purchase tickets Call Danny Byrd at 757 449 1305\n\n\nFor
  more information visit https://vbnightlife.com/events/fall-cajun-craw
 fish-beer-and-wine-festival-to-benefit-local-chari
DTSTART:20141115T170000Z
DTEND:20141115T220000Z
CATEGORIES:fundraiser, ysc, "youth services club"
LOCATION:Camp Pendelton
WEBSITE:
URL:
CONTACT:
ORGANIZER;CN="VBnightlife.com":https://vbnightlife.com/profile/admin
ATTACH;FMTTYPE="image/jpeg":http://storage.ning.com/topology/rest/1.0/
 file/get/1664253015?profile=original
ATTENDEE;ROLE=REQ-PARTICIPANT;PARTSTAT=ACCEPTED;RSVP=TRUE;CN="VBnightl
 ife.com":https://vbnightlife.com/profile/admin
END:VEVENT
END:VCALENDAR
