BEGIN:VCALENDAR
PRODID:NingEventWidget-v1
VERSION:2.0
METHOD:PUBLISH
BEGIN:VEVENT
UID:2508951:Event:265085
DTSTAMP:20260421T231134Z
SUMMARY:Exclusive VBnightlife Discount for Haunted Hunt Club!
DESCRIPTION:\n\nGet in the Halloween Spirit. Check out the Haunted Hu
 nt Club for Haunted Hayrides, Field of Screams, and the Village of th
 e Dead!  VBnightlife has your $3.00 off Exclusive Coupon!  Hurry! Th
 is offer expires 10/27/13! \n\nFor more AWESOME LOCAL COUPONS check o
 ut:  VBHotCoupons.com\n\nFor more information visit https://vbnightli
 fe.com/events/exclusive-vbnightlife-discount-for-haunted-hunt-club
DTSTART:20131027T040000Z
DTEND:20131028T035900Z
CATEGORIES:"haunted hunt club", hayride, halloween, vbnightlife
LOCATION:Hunt Club Farms
WEBSITE:
URL:
CONTACT:
ORGANIZER;CN="VBnightlife.com":https://vbnightlife.com/profile/admin
ATTACH;FMTTYPE="image/jpeg":http://storage.ning.com/topology/rest/1.0/
 file/get/1664209998?profile=original
ATTENDEE;ROLE=REQ-PARTICIPANT;PARTSTAT=ACCEPTED;RSVP=TRUE;CN="Rolan St
 ears":https://vbnightlife.com/profile/RolanStears
ATTENDEE;ROLE=REQ-PARTICIPANT;PARTSTAT=ACCEPTED;RSVP=TRUE;CN="VBnightl
 ife.com":https://vbnightlife.com/profile/admin
END:VEVENT
END:VCALENDAR
