BEGIN:VCALENDAR
PRODID:NingEventWidget-v1
VERSION:2.0
METHOD:PUBLISH
BEGIN:VEVENT
UID:2508951:Event:299636
DTSTAMP:20260422T140230Z
SUMMARY:Exclusive Discount Code to the Pungo Craft Beer Festival
DESCRIPTION:• Live music with Lewis McGehee and Brandon Patrick Bowe
 r  * Unlimited tastings from 30 Craft Breweries! • 1801 Princess An
 ne Rd at Pungo Light • Fundraiser for Lee's Friends - Helping People
  Live With Cancer - More on Lee's Friends here --> http://www.leesfr
 iends.org/   Purchase here: http://www.brownpapertickets.com/event/8
 63141  Use code VBNL at check out to save $5 off all 3 ticket levels:\
 n * Designated Driver Ticket Reg. $10 (ages 16+) • General Admission
  Ticket Reg. $35 • VIP Ticket Reg. $50 (includes catering from La Be
 lla in Ghent)  First Annual Pungo Craft Beer Festival is being held No
 vember 8th, 2014 in Pungo at the corner of Indian River Rd and Princes
 s Anne Road. Come and enjoy an afternoon of good music by local musici
 ans, good food from local food trucks, and (of course) good beer from 
 local breweries!   Breweries: Alewerks: Chesapeake Pale & Wheat Ale B
 ack Bay: Atlantic Ave IPA & Witch of Pungo Becks: Octoberfest Bold Roc
 k Hard Cider: VA Apple Cider & VA Draft Cider Devils Backbone: Gold Le
 af Lager & Kilt Flasher DuClaw: Sweet Baby Jesus & 31 Pumpkin Ale Goos
 e Island: IPA & 312 Harpoon: IPA & UFO Pumpkin Heavy Seas: Loose Canno
 n & Greater Pumpkin/RIP Tide IPA Highland: Gaelic Ale & Oatmeal Porter
  Hoegaarden: Belgian Wheat Kona: Fire Rock Pale Ale & Big Wave Golden 
 Ale Laguniitas: IPA & Imperial Red Legend: Brown Ale & Winter White Lo
 nerider: Shotgun Betty & Sweet Josie Brown Natty Greene's: Buckshot Am
 ber & Southern Pale Ale New Belgium: Fat Tire & Accumulation Ale O'Con
 nor: El Gaupo & Black Dismal IPA Oskar Blues: Dale Pale Ale & Deviant 
 Dales Red Hook: Longhammer IPA & Out of Your Gourd Pumpkin Porter Shoc
 k Top: Banana Wheat & Pumpkin Wheat Smartmouth: Alter Ego & Cowcatcher
  Southern Tier: 2X IPA & Pumking Star Hill: Grateful Pale Ale & Box Ca
 rr St. George: Larry's Lemonade Hard Lemonade & Pumpkinfest Sunken Cit
 y: Dam Lager & Sunkentoberfest Sweet Water: 420 Extra Pale & Blue Vict
 ory: Hop Devil & Festbier Weyerbacher: Double Simcoe & Imperial Pumpki
 n Ale  Widmer: Brrrbon Vanilla & Brrrbon Ginger Young Veterans: Pinea
 pple Grenade & Semper FIPA   General Admission tickets include: -Unli
 mited Beer Tastings -Tasting Glass -Great music by local artists -Grea
 t food for sale by local food truck -PLENTY of on-site parking  VIP ti
 ckets include: -Unlimited Beer Tastings -Private VIP area -Free appeti
 zers -One hour early admittance into the event -Tasting Glass -Great m
 usic by local artists -Great food for sale by local food trucks -PLENT
 Y of on-site parking!   Pre-purchase your tickets! Ticket prices go u
 p on the day of the event!   \n\nFor more information visit https://vb
 nightlife.com/events/exclusive-discount-code-to-the-pungo-craft-beer-f
 estival
DTSTART:20141108T170000Z
DTEND:20141108T230000Z
CATEGORIES:fundraiser, "pungo craft beer festival"
LOCATION:Pungo, VA
WEBSITE:
URL:
CONTACT:
ORGANIZER:VBnightlife.com / vbdaylife.com
ATTACH;FMTTYPE="image/jpeg":http://storage.ning.com/topology/rest/1.0/
 file/get/1664256606?profile=original
ATTENDEE;ROLE=REQ-PARTICIPANT;PARTSTAT=ACCEPTED;RSVP=TRUE;CN="VBnightl
 ife.com":https://vbnightlife.com/profile/admin
END:VEVENT
END:VCALENDAR
