BEGIN:VCALENDAR
PRODID:NingEventWidget-v1
VERSION:2.0
METHOD:PUBLISH
BEGIN:VEVENT
UID:2508951:Event:294151
DTSTAMP:20260422T073415Z
SUMMARY:EWI Wine Tasting Fundraiser
DESCRIPTION:Save the date! EWI club is holding a wine tasting event an
 d silent auction. We hold this event to raise funds for women who woul
 d like to advance their education but cannot afford to. If anyone know
 s of a candidate for our scholarship awards go to our website and prin
 t an application, the link is http://ewi-hamptonroads.org/scholarship
 s.php\n\n\n\n\n\n\n\nFor more information visit https://vbnightlife.co
 m/events/ewi-wine-tasting-fundraiser
DTSTART:20141106T223000Z
DTEND:20141107T013000Z
CATEGORIES:fundraiser
LOCATION:Simply Fresh
WEBSITE:http://ewi-hamptonroads.org
URL:http://ewi-hamptonroads.org
CONTACT:
ORGANIZER:VBnightlife.com / VBdaylife/ vbhotdeals
ATTACH;FMTTYPE="image/jpeg":http://storage.ning.com/topology/rest/1.0/
 file/get/1664248093?profile=original
ATTENDEE;ROLE=REQ-PARTICIPANT;PARTSTAT=ACCEPTED;RSVP=TRUE;CN="VBnightl
 ife.com":https://vbnightlife.com/profile/admin
END:VEVENT
END:VCALENDAR
