BEGIN:VCALENDAR
PRODID:NingEventWidget-v1
VERSION:2.0
METHOD:PUBLISH
BEGIN:VEVENT
UID:2508951:Event:188273
DTSTAMP:20260421T053801Z
SUMMARY:Evolution at 11th St Taphouse
DESCRIPTION:A Night of Rock and Roll from Evolution.\n\nFor more infor
 mation visit https://vbnightlife.com/events/evolution-at-11th-st-tapho
 use
DTSTART:20120204T023000Z
DTEND:20120204T060000Z
CATEGORIES:music, show
LOCATION:11th Street Taphouse
WEBSITE:http://www.11taphouse.com/
URL:http://www.11taphouse.com/
CONTACT:757-321-8354
ORGANIZER:Evolution
ATTACH;FMTTYPE="image/jpeg":http://storage.ning.com/topology/rest/1.0/
 file/get/1664161024?profile=original
ATTENDEE;ROLE=REQ-PARTICIPANT;PARTSTAT=ACCEPTED;RSVP=TRUE;CN="Dave Smi
 th":https://vbnightlife.com/profile/DaveSmith
END:VEVENT
END:VCALENDAR
