BEGIN:VCALENDAR
PRODID:NingEventWidget-v1
VERSION:2.0
METHOD:PUBLISH
BEGIN:VEVENT
UID:2508951:Event:13431
DTSTAMP:20260425T191451Z
SUMMARY:EVELYN GLENNIE @ THE SANDLER CENTER
DESCRIPTION:percussionist\n\n$27 - $57\n\nFor more information visit h
 ttps://vbnightlife.com/events/evelyn-glennie-the-sandler
DTSTART:20090511T220000Z
DTEND:20090511T230000Z
CATEGORIES:concert
LOCATION:Sandler Center for Performing Arts
WEBSITE:
URL:
CONTACT:
ORGANIZER:Sandler Center
ATTACH;FMTTYPE="image/jpeg":http://storage.ning.com/topology/rest/1.0/
 file/get/1664074280?profile=original
ATTENDEE;ROLE=REQ-PARTICIPANT;PARTSTAT=ACCEPTED;RSVP=TRUE;CN="Nicole M
 axino":https://vbnightlife.com/profile/NicoleMaxino
END:VEVENT
END:VCALENDAR
