BEGIN:VCALENDAR
PRODID:NingEventWidget-v1
VERSION:2.0
METHOD:PUBLISH
BEGIN:VEVENT
UID:2508951:Event:9830
DTSTAMP:20260425T142406Z
SUMMARY:Euronite
DESCRIPTION:Come out and listen to Virginia Beach's best spot!! Every 
 Sunday Cabo Cafe is holding Euronite with the talents of DJ Anthony Pa
 ul and DJ-B. Located by the intersection of W. Great Neck and Shore Dr
 .\n\nFor more information visit https://vbnightlife.com/events/euronit
 e-1
DTSTART:20090406T010000Z
DTEND:20090406T060000Z
CATEGORIES:"electro/progressive", house
LOCATION:2301 Red Tide Rd. Shore Dr. virginia Beach, VA
WEBSITE:
URL:
CONTACT:
ORGANIZER;CN=DJ:https://vbnightlife.com/profile/DJ
ATTACH;FMTTYPE="image/jpeg":http://storage.ning.com/topology/rest/1.0/
 file/get/1664070275?profile=original
ATTENDEE;ROLE=REQ-PARTICIPANT;PARTSTAT=ACCEPTED;RSVP=TRUE;CN="Rolan St
 ears":https://vbnightlife.com/profile/RolanStears
ATTENDEE;ROLE=REQ-PARTICIPANT;PARTSTAT=ACCEPTED;RSVP=TRUE;CN=DJ:https:
 //vbnightlife.com/profile/DJ
END:VEVENT
END:VCALENDAR
