BEGIN:VCALENDAR
PRODID:NingEventWidget-v1
VERSION:2.0
METHOD:PUBLISH
BEGIN:VEVENT
UID:2508951:Event:12371
DTSTAMP:20260425T155432Z
SUMMARY:ELEMENT @ CATCH 31
DESCRIPTION:ROCK / DANCE\n\nFriday, May 8th @ CATCH 31 / HILTON\n(31st
  Street Gazeebo Stage)\n3001 Atlantic Avenue, Virginia Beach, VA 23451
 \n(757) 213-3474\n7pm - 11pm\n\nFor more information visit https://vbn
 ightlife.com/events/element-catch-31
DTSTART:20090508T230000Z
DTEND:20090509T030000Z
CATEGORIES:band
LOCATION:CATCH 31 / HILTON
WEBSITE:
URL:
CONTACT:
ORGANIZER;CN="Nicole Maxino":https://vbnightlife.com/profile/NicoleMax
 ino
ATTACH;FMTTYPE="image/jpeg":http://storage.ning.com/topology/rest/1.0/
 file/get/1664071897?profile=original
ATTENDEE;ROLE=REQ-PARTICIPANT;PARTSTAT=ACCEPTED;RSVP=TRUE;CN="Nicole M
 axino":https://vbnightlife.com/profile/NicoleMaxino
END:VEVENT
END:VCALENDAR
