BEGIN:VCALENDAR
PRODID:NingEventWidget-v1
VERSION:2.0
METHOD:PUBLISH
BEGIN:VEVENT
UID:2508951:Event:214312
DTSTAMP:20260421T012901Z
SUMMARY:Educational Forum: Rule of Thumb Accounting
DESCRIPTION:Speaker: Mark Gottfried, MBA CPA CGMA \n  \n7:30 AM netw
 orking, 8-9 AM education\n  \n$10 Retail Alliance members, $15 non-me
 mbers \n  \n\"Mark's presentation on 'rule of thumb accounting' is a
  must for business owners! Business 101 metrics almost require that an
  owner understand and be able to apply knowledge of their respective b
 usiness finances in order to function in the market place! Mark makes 
 it easy to understand and gets right to the heart of helping an entrep
 reneur know exactly what their 'financials' are telling them. Knowled
 ge without application leaves you powerless to determine your directio
 n in business. I highly recommend Mark's approach because it works!! S
 imple as that!\"\n~ Gary Compton, BookKeeping Express\n\n\nAs a small 
 business owner, you can learn a few simple concepts to allow you to cr
 eate specific measurable goals that are easy to implement and track so
  that you can use a \"rules of thumb\" approach to managing your busin
 ess. Includes catered breakfast from Momo's Café.\n\nThere are limite
 d seats available. Register online by 4 PM on Wednesday, February 27 t
 o guarantee your breakfast. Register here: http://bit.ly/AccountingFo
 rum\n \nEmail Sarah Kingsley with any questions: skingsley@retail-al
 liance.com\n \nSee the event on Facebook: https://www.facebook.com/#
 !/events/180474108759748/?fref=ts\n\nFor more information visit https:
 //vbnightlife.com/events/educational-forum-rule-of-thumb-accounting
DTSTART:20130228T123000Z
DTEND:20130228T140000Z
CATEGORIES:"educational forum", "rule of thumb accounting", "retail al
 liance"
LOCATION:Weight Loss Surgery Center of Hampton Roads
WEBSITE:http://bit.ly/AccountingForum
URL:http://bit.ly/AccountingForum
CONTACT:(757) 455-9323
ORGANIZER:VBnightlife.com / VBdylife / NorfolkNightlife
ATTACH;FMTTYPE="image/jpeg":http://storage.ning.com/topology/rest/1.0/
 file/get/1664188138?profile=original
ATTENDEE;ROLE=REQ-PARTICIPANT;PARTSTAT=ACCEPTED;RSVP=TRUE;CN="Rolan St
 ears":https://vbnightlife.com/profile/RolanStears
ATTENDEE;ROLE=REQ-PARTICIPANT;PARTSTAT=ACCEPTED;RSVP=TRUE;CN="VBnightl
 ife.com":https://vbnightlife.com/profile/admin
END:VEVENT
END:VCALENDAR
