BEGIN:VCALENDAR
PRODID:NingEventWidget-v1
VERSION:2.0
METHOD:PUBLISH
BEGIN:VEVENT
UID:2508951:Event:202435
DTSTAMP:20260421T064246Z
SUMMARY:50th Annual ECSC OVERVIEW OF EVENTS  Saturday &  Sunday
DESCRIPTION:Below is a short summary of events......Â \nÂ \nCLICK HERE
  FOR THE COMPLETE DETAILED LIST OF EVENTS FOR THE WEEKEND\nÂ \nSaturda
 yÂ \n7AMâ€“6PM Amateur & Professional Surfing\n7â€“9:30AM ECSC 8K Run\
 n8AMâ€“6PM Beach Volleyball Tournament & Footvolley\nÂ 10â€“11AM & 3-4
 PM Fox FMX Demo\nNOONâ€“2PM Quiksilver Super Grom Event\nNOONâ€“2PM LX
 VI Invitational BMX Comp practice & qualifier\n11Aâ€“NOON & 2-3PM Vans
  Skate/BMX Vert Demo\n2PM Volleyball Pro Feature Matches\n3â€“10PM LIV
 E MUSIC â€“ House of Marley Main Stage 4â€“7PM Coastal Edgeâ€™s Band o
 f the Day\n4â€“5PMÂ Miss Coastal Edge ECSC Swimsuit Pageant\nNOON-10PM
 Â X-Life Film Festival\n10:00PM FIREWORKS (weather permitting)\n\nSund
 ay\n7AMâ€“4PM Amateur & Professional Surfing at 2nd Street\n8AMâ€“9AMÂ
  6th Annual Wareings Gym Beach Bum Classic\n8AMâ€“6PMÂ Beach Volleybal
 l Tournament & Footvolley\n8AMâ€“6PMÂ US Beach Flag Football Champions
 hips\n10AMâ€“6PMÂ Vans Mini Ramp Jam\nMIDDAY Rolls On Exhibition @ Sur
 fing Area\n11:30 AMâ€“6PMÂ Virginia Beach Cornhole Tournament\nNOON- 1
 PMÂ DEMO (BMX & SKATE) â€”Vert Ramp\nAFTERNOON Pro Junior Menâ€™s Fina
 ls & Awards @ Surfing Area Pro Menâ€™s Surfing Finals & Awards Ceremon
 y\n3-9PM LIVE MUSIC â€“ House of Marley Main Stage\n4â€“5PMÂ Miss Coas
 tal Edge ECSC Swimsuit PageantÂ  FINALS\nNOONâ€“10PM X-Life Film Festi
 val\n\nFor more information visit https://vbnightlife.com/events/ecsc
DTSTART:20120826T040000Z
DTEND:20120827T035900Z
CATEGORIES:"virginia beach events", "virgina beach nightlife", "ecsc, 
 ", va, beach, jaycees, ", ", virginia, "surf\""
LOCATION:Oceanfront
WEBSITE:http://www.surfecsc.com/event-schedule/event-schedule/
URL:http://www.surfecsc.com/event-schedule/event-schedule/
CONTACT:
ORGANIZER;CN="VBnightlife.com":https://vbnightlife.com/profile/admin
ATTACH;FMTTYPE="image/jpeg":http://storage.ning.com/topology/rest/1.0/
 file/get/1664175176?profile=original
ATTENDEE;ROLE=REQ-PARTICIPANT;PARTSTAT=ACCEPTED;RSVP=TRUE;CN="VBnightl
 ife.com":https://vbnightlife.com/profile/admin
END:VEVENT
END:VCALENDAR
