BEGIN:VCALENDAR
PRODID:NingEventWidget-v1
VERSION:2.0
METHOD:PUBLISH
BEGIN:VEVENT
UID:2508951:Event:164061
DTSTAMP:20260423T222828Z
SUMMARY:ECSC Swimsuit Pageant @ CP Shucker's
DESCRIPTION:Ladies compete to win!\n \n1st place at CP Shuckers $300,
  2nd Place $200, 3rd place$100!\n \nThere will be two rounds to this 
 competition - a dress round followed by a bikini round. Sign up online
  at www.surfecsc.com. This is the second of two preliminary rounds le
 ading up to the finals at the 49th Annual Coastal Edge East Coast Surf
 ing Championships presented by Vans. You must compete in a prelim roun
 d to go to the final stage at CE ECSC!\n\n\nFor more information visit
  https://vbnightlife.com/events/ecsc-swimsuit-pageant-cp-shucker-s
DTSTART:20110818T013000Z
DTEND:20110818T034500Z
CATEGORIES:"virginia beach events", "swimsuit pageant", "east coast su
 rfing championship", "coastal edge", "virginia beach bikini contest"
LOCATION:CP Shucker's
WEBSITE:
URL:
CONTACT:
ORGANIZER;CN="VBnightlife.com":https://vbnightlife.com/profile/admin
ATTACH;FMTTYPE="image/jpeg":http://storage.ning.com/topology/rest/1.0/
 file/get/1664150858?profile=original
ATTENDEE;ROLE=REQ-PARTICIPANT;PARTSTAT=ACCEPTED;RSVP=TRUE;CN="VBnightl
 ife.com":https://vbnightlife.com/profile/admin
END:VEVENT
END:VCALENDAR
