BEGIN:VCALENDAR
PRODID:NingEventWidget-v1
VERSION:2.0
METHOD:PUBLISH
BEGIN:VEVENT
UID:2508951:Event:350469
DTSTAMP:20260419T124605Z
SUMMARY:ECSC Schedule of Events
DESCRIPTION:\r\n\r\n\r\n\n\nFor more information visit https://vbnight
 life.com/events/ecsc-schedule-of-events
DTSTART:20180819T220000Z
DTEND:20180826T230000Z
CATEGORIES:fundraiser
LOCATION:Virginia Beach, VA
WEBSITE:
URL:
CONTACT:
ORGANIZER;CN="VBnightlife.com":https://vbnightlife.com/profile/admin
ATTACH;FMTTYPE="image/jpeg":
ATTENDEE;ROLE=REQ-PARTICIPANT;PARTSTAT=ACCEPTED;RSVP=TRUE;CN="VBnightl
 ife.com":https://vbnightlife.com/profile/admin
END:VEVENT
END:VCALENDAR
