BEGIN:VCALENDAR
PRODID:NingEventWidget-v1
VERSION:2.0
METHOD:PUBLISH
BEGIN:VEVENT
UID:2508951:Event:201330
DTSTAMP:20260421T083949Z
SUMMARY:ECSC LIVE MUSIC: FRIDAY
DESCRIPTION:LIVE MUSIC- House of Marley Main Stage @ 4th Street– \
 n3:00 PM – 4:00 PM  Psychobilly Cadillac\nWe are a 3 piece Original
  Rock N Roll band from Richmond, VA. Let me introduce you to Psychobil
 ly Cadillac. Our name alone often confuses at first glance and leads o
 ne to assume that we are of the psychobilly genre. Our name is a tip o
 f the hat to Johnny Cashs song, \"One Piece at a Time\". The song tell
 s of a man who works at General Motors in Detroit, Michigan and assemb
 les Cadillacs. He decides to steal a Cadillac, using his assembly line
  job to obtain the parts one piece at a time. After 24 years of collec
 ting he assembles the Psychobilly Cadillac. After many years of collec
 ting we have finally assembled our Cadillac. We are Psychobilly Cadill
 ac.\n5:00 PM – 6:00 PM Nature’s Child\nNature's Child is one of t
 he hottest reggae sensations on the east coast. Based in Virginia Beac
 h, Va. this band is multi-cultural, multi-racial, multi-talented in ro
 ck, jazz, latin, blues, funk and of course reggae.\n \n6:30 PM – 8:
 00 PM  Butter\nButter is a 4 piece high-energy rock band that people
  love to dance to. Based out of Virginia Beach, the name Butter has be
 come synonymous with music at the beach over the past nine years. Focu
 sing on their original material, as well as serving up a moderate dose
  of hand-picked covers, Butter now headlines many of the festivals.\n8
 :30 PM – 10:00 PM Hot 100.5 presents: Breathe Carolina\nBreathe Car
 olina is an American electric rock musical duo from Denver. Breathe Ca
 rolina is essentially an electronic/electropop duo with strong dance i
 nfluence.\n\nCoastal Edge’s Band of the Day – Stage At The Jetty @
  2nd Street:\n 4:00 PM – 5:00 PM – Volcom presents: Torche\nTorc
 he is a band from Miami whose sound is often described as stoner metal
  or sludge metal. In describing the band's sound, Smith said in an int
 erview: \"To me it's mostly a combination of everything we listen to c
 ollectively as a band. We take what we like from what we grew up on an
 d use it as creatively as we can. I think the meshing of different sou
 nds comes naturally just because we all have different musical backgro
 unds yet have a ton of common interests.\"\n5:00PM-6:00PM  -Vans pre
 sents: People Under the Stairs\nPeople Under the Stairs is a hip hop g
 roup from LA formed in 1997. The group has released eight critically a
 cclaimed full-length albums and performed on every continent except An
 tarctica. Some of their more recognizable songs include \"San Francisc
 o Knights,\" \"Montego Slay,\" \"Los Angeles Daze,\" and \"Acid Raindr
 ops.\" Much of the group's lyrics relate to life in their hometown of 
 Los Angeles.\n6:00PM-7:00PM -96X presents: Shiny Toy Gun\nShiny Toy G
 uns is an America Rock band that formed in 2002 in LA. They released t
 heir first studio album, it was nominated for a Grammy.\n\nFor more in
 formation visit https://vbnightlife.com/events/ecsc-live-music-friday
DTSTART:20120824T190000Z
DTEND:20120825T020000Z
CATEGORIES:virginia, beach, events, surfing, jaycees, ecsc, nightlife,
  entertainment
LOCATION:House of Marley Main Stage at 4th Street
WEBSITE:http://www.surfecsc.com/event-schedule/event-schedule/
URL:http://www.surfecsc.com/event-schedule/event-schedule/
CONTACT:
ORGANIZER;CN="VBnightlife.com":https://vbnightlife.com/profile/admin
ATTACH;FMTTYPE="image/jpeg":http://storage.ning.com/topology/rest/1.0/
 file/get/1664177032?profile=original
ATTENDEE;ROLE=REQ-PARTICIPANT;PARTSTAT=ACCEPTED;RSVP=TRUE;CN="VBnightl
 ife.com":https://vbnightlife.com/profile/admin
END:VEVENT
END:VCALENDAR
