BEGIN:VCALENDAR
PRODID:NingEventWidget-v1
VERSION:2.0
METHOD:PUBLISH
BEGIN:VEVENT
UID:2508951:Event:198466
DTSTAMP:20260422T224700Z
SUMMARY:Eastern Virginia Derby Expo, \"Beach Brawl\" July 21st, 2012
DESCRIPTION:Eastern Va Derby Expo All Derby. All skill levels. All day
 .Three levels of play-no skater left behind! Vendors, derby tattoo con
 test, raffles, headshots, Goth fortune teller, new gear demos,Derby sk
 ills training and more!Interested in vending or sponsorship??sponsorsh
 ip.resortcity@gmail.com\nPresented by:Â Â Â Â Â Â Â Â Â Â Â Â Â Â Â Â 
 Â Â Â Â Â Â Â  WWW.ROLLERDERBYVB.COMÂ Â Â Â \nHosted by:Â  WWW.RESORTC
 ITYROLLERDOLLS.COMÂ Â Â Â Â Â Â Â Â Â Â Â Â Â Â Â Â Â Â \nAll the Derb
 y you can stand, and then just a little more.\nÂ Love and Shoves, F.U.
 B.A.R.bie #32flvÂ Â Â Â Â Â Â Â Â Â Â Â Â Â Â Â Â Â Â Â Â Â Â Â Â Â Â 
 Â Â Â Â \n*WE NEED REFEREES, NSOâ€™s AND VOLUNTEERS-discounted passesâ
 €¦just sayinâ€™\nEmail EVDE2012@gmail.com\n\nFor more information visi
 t https://vbnightlife.com/events/eastern-virginia-derby-expo-beach-bra
 wl-july-21st-2012
DTSTART:20120721T130000Z
DTEND:20120722T010000Z
CATEGORIES:roller, derby, expo
LOCATION:Hampton Roads Convention Center
WEBSITE:http://www.thehrcc.com/go/attendees/local-maps
URL:http://www.thehrcc.com/go/attendees/local-maps
CONTACT:
ORGANIZER:Roller Derby Virginia Beach, and the Resort City Roller Doll
 s!
ATTACH;FMTTYPE="image/jpeg":http://storage.ning.com/topology/rest/1.0/
 file/get/1664170517?profile=original
ATTENDEE;ROLE=REQ-PARTICIPANT;PARTSTAT=ACCEPTED;RSVP=TRUE;CN="Roller D
 erby Virginia Beach":https://vbnightlife.com/profile/ChristyFUBARbieYo
 ung
END:VEVENT
END:VCALENDAR
