BEGIN:VCALENDAR
PRODID:NingEventWidget-v1
VERSION:2.0
METHOD:PUBLISH
BEGIN:VEVENT
UID:2508951:Event:313834
DTSTAMP:20260422T105414Z
SUMMARY:EAST COAST SURFING CHAMPIONSHIPS EVENTS: SURFING, BAND SCHEDUL
 ES AND MORE
DESCRIPTION:ECSC SURFING\nSee schedule of events here: http://vbnight
 life.com/page/ecsc-schedule\n\nHEAT DRAWS & HEAT SCHEDULE: http://sur
 fecsc.com/event/heat-draws-heat-schedule/\n\n \n\nFor more informatio
 n visit https://vbnightlife.com/events/east-coast-surfing-championship
 s-1
DTSTART:20150823T040000Z
DTEND:20150824T035900Z
CATEGORIES:"fundraiser in virginia beach", "east coast surfing champio
 nships", "things to do in virginia beach"
LOCATION:On the Beach between 1st Street and 7th Street
WEBSITE:
URL:
CONTACT:7576520808
ORGANIZER:VBnightlife.com / vbdaylife / Virginia Beach Jaycees
ATTACH;FMTTYPE="image/jpeg":http://storage.ning.com/topology/rest/1.0/
 file/get/1664285565?profile=original
ATTENDEE;ROLE=REQ-PARTICIPANT;PARTSTAT=ACCEPTED;RSVP=TRUE;CN="VBnightl
 ife.com":https://vbnightlife.com/profile/admin
END:VEVENT
END:VCALENDAR
