BEGIN:VCALENDAR
PRODID:NingEventWidget-v1
VERSION:2.0
METHOD:PUBLISH
BEGIN:VEVENT
UID:2508951:Event:6767
DTSTAMP:20260425T201743Z
SUMMARY:EAST COAST CRIPPLERS QUAD RUGBY TEAM FUNDRAISER @ KNUCKLEHEADS
DESCRIPTION:ECC fundrasier HELP! us get to rugby Sectionals\n\nHELP!!\
 n\nThe East Coast Cripplers (ECC) Quad Rugby team is based out of East
 ern Virginia. We are the only team of its kind in the state of Virgini
 a.\n\nWe are dedicated to expanding the sport of wheelchair rugby by c
 ompeting in tournaments, and putting on educational clinics. Also, we 
 speak at local, state, regional, and national professional conferences
  on the importance of sport opportunities for individuals with physica
 l disabilities. The team also educates the public on the sport of rugb
 y and dispels myths about individuals with disabilities through commun
 ity service events and rugby demonstrations.\n\nAfter two 3rd place fi
 nishes and a 4th place finish, ECC finished the season 2nd in our regi
 on. We have been invited to this years Sectionals which will be held i
 n West Palm Beach, FL March 13-15, 2009. We need your help to raise mo
 ney for travel expenses. So please come out March 8th to Knuckleheads 
 and support Virginias 1st quad rugby team.\n\n10% off all dinner entri
 es\n50/50 raffle and door prizes\n10% of all dinner proceeds will\nbe 
 donated to ECC\n\nEvent Info Host: Knuckleheads\n\nType: Causes - Fund
 raiser\n\nTime: 6:30pm - 9:30pm\nLocation: Knuckleheads Roadhouse\nStr
 eet: 401 N Witchduck Rd\nCity/Town: Virginia Beach, VA\nView MapGoogle
 \n\nwww.eastcoastcripplers.com\nContact Info Phone: 6446200\n\nFor mor
 e information visit https://vbnightlife.com/events/east-coast-crippler
 s-quad
DTSTART:20090308T050000Z
DTEND:20090309T035900Z
CATEGORIES:fundraiser
LOCATION:Knuckleheads
WEBSITE:
URL:
CONTACT:
ORGANIZER:ECC
ATTACH;FMTTYPE="image/jpeg":http://storage.ning.com/topology/rest/1.0/
 file/get/1664069536?profile=original
ATTENDEE;ROLE=REQ-PARTICIPANT;PARTSTAT=ACCEPTED;RSVP=TRUE;CN=Eric:http
 s://vbnightlife.com/profile/Eric
ATTENDEE;ROLE=REQ-PARTICIPANT;PARTSTAT=ACCEPTED;RSVP=TRUE;CN="Nicole M
 axino":https://vbnightlife.com/profile/NicoleMaxino
END:VEVENT
END:VCALENDAR
