BEGIN:VCALENDAR
PRODID:NingEventWidget-v1
VERSION:2.0
METHOD:PUBLISH
BEGIN:VEVENT
UID:2508951:Event:12695
DTSTAMP:20260425T213550Z
SUMMARY:EARTH DAY CELEBRATION @ MT TRASHMORE PARK
DESCRIPTION:EARTH DAY 2009 - VIRGINIA BEACH\nSunday May 3, 2009 at Mou
 nt Trashmore Park - Virginia Beach, VA\n11:00am to 5:00pm\n\nEvents\nC
 urrently the agenda of events is as follows:\n\nChildren's activity ar
 ea\nE-cycling - sponsored by Synergy Recycling\nBiking event\nMusic an
 d Entertainment\nFood\nEnvironmental Exhibits\nRain Barrels - purchase
 s\nPlastic Bag Recycling program\nPassword Contest\nGetting to the fes
 tivities at Mt. Trashmore:\nWe are encouraging people to bike (see bik
 ing info), walk, take the bus, or carpool to the event. If driving to 
 the event, parking will be tight at Mt. Trashmore, so we are offering 
 people the alternative to park at HRT's Silverleaf Park & Ride on the 
 corner of Holland Road & Independence.\n\nHRT will be offering free ri
 des from the Silverleaf Park & Ride to the festivities at Mt. Trashmor
 e on their a Hybrid Wave 35-passenger shuttle starting at 11:00am and 
 going to 5:00pm.\nFor more information about the hybrid Wave shuttle g
 o to: http://www.hrtransit.org/services/vbwave.html\n\n\n_____________
 ______\nChildren's Activities\nThere will be all types of crafts and a
 ctivities for the kids. From a passport and video contests, to games a
 nd crafts galore. For more information, please visit the Kids Zone.\n\
 nMusic and Entertainment\nThe current line-up for the Mountain Stage &
  the Lake Stage:\n\nMountain Stage (Bands)\n11:00am - 11:45am - One\n1
 2:15pm - 1:00pm - Tim Morgan\n1:30pm - 2:15pm - Blackbird Pond\n2:45pm
  - 3:30pm - The 3rd District\n4:00pm - 4:45pm - Neverending Tire Fire 
 Band\n\nLake Stage (Demonstrations)\n12:15pm - 1:15pm Body Works by Ch
 andani\n1:45pm - 2:30pm Dragon Force National Karate Team\n3:00pm - 3:
 40pm Team Hapmudo - martial arts\n\nAlso check out the cool electric b
 oats on the lake at Mt. Trashmore provided by The Elite Fleet\n\nFood 
 Vendors\nCurrently, we have the following food vendors - more to come\
 nBubba's Deli & BBQ\nMediterranean Appetite\nMaui Wowi\n\nFor more inf
 ormation visit https://vbnightlife.com/events/earth-day-celebration-mt
DTSTART:20090503T150000Z
DTEND:20090503T210000Z
CATEGORIES:festival
LOCATION:Mount Trashmore
WEBSITE:
URL:
CONTACT:
ORGANIZER;CN="Nicole Maxino":https://vbnightlife.com/profile/NicoleMax
 ino
ATTACH;FMTTYPE="image/jpeg":http://storage.ning.com/topology/rest/1.0/
 file/get/1664073806?profile=original
ATTENDEE;ROLE=REQ-PARTICIPANT;PARTSTAT=ACCEPTED;RSVP=TRUE;CN="Nicole M
 axino":https://vbnightlife.com/profile/NicoleMaxino
END:VEVENT
END:VCALENDAR
