BEGIN:VCALENDAR
PRODID:NingEventWidget-v1
VERSION:2.0
METHOD:PUBLISH
BEGIN:VEVENT
UID:2508951:Event:12179
DTSTAMP:20260425T185219Z
SUMMARY:DYNAMOHUM @ Hot Tuna
DESCRIPTION:Dynamohum live at Hot Tuna on Shore Drive, May 9. Favorite
  local band, favorite local spot, great food and drink specials, outdo
 or patio, bike racks and free parking! What more could you ask for?!\n
 \nFor more information visit https://vbnightlife.com/events/dynamohum-
 hot-tuna
DTSTART:20090510T020000Z
DTEND:20090510T053000Z
CATEGORIES:band
LOCATION:Hot Tuna
WEBSITE:http://www.myspace.com/humdragonz
URL:http://www.myspace.com/humdragonz
CONTACT:
ORGANIZER:Hot Tuna
ATTACH;FMTTYPE="image/jpeg":http://storage.ning.com/topology/rest/1.0/
 file/get/1664072296?profile=original
ATTENDEE;ROLE=REQ-PARTICIPANT;PARTSTAT=ACCEPTED;RSVP=TRUE;CN=Dynamohum
 :https://vbnightlife.com/profile/Dynamohum
END:VEVENT
END:VCALENDAR
