BEGIN:VCALENDAR
PRODID:NingEventWidget-v1
VERSION:2.0
METHOD:PUBLISH
BEGIN:VEVENT
UID:2508951:Event:45200
DTSTAMP:20260422T060910Z
SUMMARY:DYNAMOHUM at MAHI MAH'S - Friday, Aug 27 - CANCELLED
DESCRIPTION:Sorry everybody but we have had to cancel the show tonight
  due to a band member's injury - he's ok just can't play for a bit. Th
 ere is a replacement band so go out and enjoy the ECSC wknd! See you a
 ll on Sept 11 @ Hot Tuna!\n\n\nJoin Dynamohum August 27 at Mahi Mah's 
 - beautiful views, awesome food - coolest place on a Friday night! 7-1
 1pm.\n\nFor more information visit https://vbnightlife.com/events/dyna
 mohum-at-mahi-mahs-friday-1
DTSTART:20100827T230000Z
DTEND:20100828T030000Z
CATEGORIES:"live band", "live music", band, dynamohum
LOCATION:Mahi Mah's and Chix
WEBSITE:http://www.DynamohumBand.com
URL:http://www.DynamohumBand.com
CONTACT:
ORGANIZER:Dynamohum and Mahi Mah's
ATTACH;FMTTYPE="image/jpeg":http://storage.ning.com/topology/rest/1.0/
 file/get/1664117054?profile=original
ATTENDEE;ROLE=REQ-PARTICIPANT;PARTSTAT=ACCEPTED;RSVP=TRUE;CN=Dynamohum
 :https://vbnightlife.com/profile/Dynamohum
END:VEVENT
END:VCALENDAR
