BEGIN:VCALENDAR
PRODID:NingEventWidget-v1
VERSION:2.0
METHOD:PUBLISH
BEGIN:VEVENT
UID:2508951:Event:157843
DTSTAMP:20260424T035923Z
SUMMARY:DYNAMOHUM at MAHI MAHS, 7TH St Stage
DESCRIPTION:Bring the family!\n\nFor more information visit https://vb
 nightlife.com/events/dynamohum-at-mahi-mahs-7th-st-2
DTSTART:20110715T230000Z
DTEND:20110716T030000Z
CATEGORIES:live, music, band, dynamohum
LOCATION:Mahi Mahs/Chix, 7th St Stage, Oceanfront
WEBSITE:http://www.dynamohumband.com
URL:http://www.dynamohumband.com
CONTACT:
ORGANIZER;CN=Dynamohum:https://vbnightlife.com/profile/Dynamohum
ATTACH;FMTTYPE="image/jpeg":http://storage.ning.com/topology/rest/1.0/
 file/get/1664146404?profile=original
ATTENDEE;ROLE=REQ-PARTICIPANT;PARTSTAT=ACCEPTED;RSVP=TRUE;CN=Dynamohum
 :https://vbnightlife.com/profile/Dynamohum
END:VEVENT
END:VCALENDAR
