BEGIN:VCALENDAR
PRODID:NingEventWidget-v1
VERSION:2.0
METHOD:PUBLISH
BEGIN:VEVENT
UID:2508951:Event:33122
DTSTAMP:20260421T021638Z
SUMMARY:DYNAMOHUM at KOKOAMOS
DESCRIPTION:Saturday night, Mar 20. We start early - 8:00 pm and play 
 till 1:30 am!\n\nFor more information visit https://vbnightlife.com/ev
 ents/dynamohum-at-kokoamos-5
DTSTART:20100321T000000Z
DTEND:20100321T053000Z
CATEGORIES:"live band", "live music", dynamohum
LOCATION:Kokoamos
WEBSITE:http://www.dynamohumband.com
URL:http://www.dynamohumband.com
CONTACT:
ORGANIZER:
ATTACH;FMTTYPE="image/jpeg":http://storage.ning.com/topology/rest/1.0/
 file/get/1664105919?profile=original
ATTENDEE;ROLE=REQ-PARTICIPANT;PARTSTAT=ACCEPTED;RSVP=TRUE;CN=Dynamohum
 :https://vbnightlife.com/profile/Dynamohum
END:VEVENT
END:VCALENDAR
