BEGIN:VCALENDAR
PRODID:NingEventWidget-v1
VERSION:2.0
METHOD:PUBLISH
BEGIN:VEVENT
UID:2508951:Event:17191
DTSTAMP:20260425T130014Z
SUMMARY:Duchess Wilder Band @ Town Point Park
DESCRIPTION:Come join the Duchess Wilder Band in Norfolk's newly renov
 ated Town Point Park for what promises to be some great music, fun and
  food!\n\nOh did I mention the Bayou Boogaloo starts as well? :-)\n\nF
 or more information visit https://vbnightlife.com/events/duchess-wilde
 r-band-town
DTSTART:20090730T210000Z
DTEND:20090731T000000Z
CATEGORIES:live, music
LOCATION:Norfolk's Town Point Park
WEBSITE:
URL:
CONTACT:
ORGANIZER:Festevents
ATTACH;FMTTYPE="image/jpeg":http://storage.ning.com/topology/rest/1.0/
 file/get/1664080102?profile=original
ATTENDEE;ROLE=REQ-PARTICIPANT;PARTSTAT=ACCEPTED;RSVP=TRUE;CN="Duchess 
 Wilder":https://vbnightlife.com/profile/DuchessWilder
END:VEVENT
END:VCALENDAR
